BEGIN:VCALENDAR
VERSION:2.0
PRODID:-//P. A. S. T. - ECPv6.15.20//NONSGML v1.0//EN
CALSCALE:GREGORIAN
METHOD:PUBLISH
X-WR-CALNAME:P. A. S. T.
X-ORIGINAL-URL:https://cinternat.com
X-WR-CALDESC:Events for P. A. S. T.
REFRESH-INTERVAL;VALUE=DURATION:PT1H
X-Robots-Tag:noindex
X-PUBLISHED-TTL:PT1H
BEGIN:VTIMEZONE
TZID:America/North_Dakota/Center
BEGIN:DAYLIGHT
TZOFFSETFROM:-0600
TZOFFSETTO:-0500
TZNAME:CDT
DTSTART:20140309T080000
END:DAYLIGHT
BEGIN:STANDARD
TZOFFSETFROM:-0500
TZOFFSETTO:-0600
TZNAME:CST
DTSTART:20141102T070000
END:STANDARD
BEGIN:DAYLIGHT
TZOFFSETFROM:-0600
TZOFFSETTO:-0500
TZNAME:CDT
DTSTART:20150308T080000
END:DAYLIGHT
BEGIN:STANDARD
TZOFFSETFROM:-0500
TZOFFSETTO:-0600
TZNAME:CST
DTSTART:20151101T070000
END:STANDARD
BEGIN:DAYLIGHT
TZOFFSETFROM:-0600
TZOFFSETTO:-0500
TZNAME:CDT
DTSTART:20160313T080000
END:DAYLIGHT
BEGIN:STANDARD
TZOFFSETFROM:-0500
TZOFFSETTO:-0600
TZNAME:CST
DTSTART:20161106T070000
END:STANDARD
BEGIN:DAYLIGHT
TZOFFSETFROM:-0600
TZOFFSETTO:-0500
TZNAME:CDT
DTSTART:20170312T080000
END:DAYLIGHT
BEGIN:STANDARD
TZOFFSETFROM:-0500
TZOFFSETTO:-0600
TZNAME:CST
DTSTART:20171105T070000
END:STANDARD
END:VTIMEZONE
BEGIN:VEVENT
DTSTART;VALUE=DATE:20160206
DTEND;VALUE=DATE:20160207
DTSTAMP:20260425T140315
CREATED:20150902T040817Z
LAST-MODIFIED:20150902T040817Z
UID:6825-1454716800-1454803199@cinternat.com
SUMMARY:DI Instant Challenge Night for SE 6 @8am
DESCRIPTION:DI Instant Challenge Night for SE 6  @8am
URL:https://cinternat.com/event/di-instant-challenge-night-for-se-6-8am/
END:VEVENT
BEGIN:VEVENT
DTSTART;TZID=America/North_Dakota/Center:20160202T180000
DTEND;TZID=America/North_Dakota/Center:20160202T210000
DTSTAMP:20260425T140315
CREATED:20150902T040722Z
LAST-MODIFIED:20150902T040722Z
UID:6824-1454436000-1454446800@cinternat.com
SUMMARY:DI Instant Challenge Night  @6pm
DESCRIPTION:DI Instant Challenge Night  @6pm
URL:https://cinternat.com/event/di-instant-challenge-night-6pm-3/
LOCATION:AST
CATEGORIES:AST
END:VEVENT
BEGIN:VEVENT
DTSTART;VALUE=DATE:20160130
DTEND;VALUE=DATE:20160131
DTSTAMP:20260425T140315
CREATED:20150808T210759Z
LAST-MODIFIED:20150808T210759Z
UID:6794-1454112000-1454198399@cinternat.com
SUMMARY:SCI TECH:
DESCRIPTION:SCI TECH:
URL:https://cinternat.com/event/sci-tech/
END:VEVENT
BEGIN:VEVENT
DTSTART;TZID=America/North_Dakota/Center:20160129T080000
DTEND;TZID=America/North_Dakota/Center:20160129T170000
DTSTAMP:20260425T140315
CREATED:20150808T210656Z
LAST-MODIFIED:20150808T210656Z
UID:6793-1454054400-1454086800@cinternat.com
SUMMARY:CISD Science Fair
DESCRIPTION:CISD Science  Fair \nSenior High-8am \nJunior High-12pm
URL:https://cinternat.com/event/cisd-science-fair/
END:VEVENT
BEGIN:VEVENT
DTSTART;TZID=America/North_Dakota/Center:20160123T140000
DTEND;TZID=America/North_Dakota/Center:20160123T170000
DTSTAMP:20260425T140315
CREATED:20150902T040258Z
LAST-MODIFIED:20150902T040258Z
UID:6823-1453557600-1453568400@cinternat.com
SUMMARY:DI Instant Tournament Practice   @2pm
DESCRIPTION:DI Instant Tournament Practice   @2pm
URL:https://cinternat.com/event/di-instant-tournament-practice-2pm/
END:VEVENT
BEGIN:VEVENT
DTSTART;TZID=America/North_Dakota/Center:20160122T090000
DTEND;TZID=America/North_Dakota/Center:20160122T110000
DTSTAMP:20260425T140315
CREATED:20150902T034245Z
LAST-MODIFIED:20150902T034245Z
UID:6818-1453453200-1453460400@cinternat.com
SUMMARY:Coffee with the Headmaster - 9-11am @LGI
DESCRIPTION:Coffee with the Headmaster – 9-11am @LGI
URL:https://cinternat.com/event/coffee-with-the-headmaster-9-11am-lgi-2/
LOCATION:PAST
CATEGORIES:PAST Activities
END:VEVENT
BEGIN:VEVENT
DTSTART;VALUE=DATE:20160122
DTEND;VALUE=DATE:20160123
DTSTAMP:20260425T140315
CREATED:20150808T210505Z
LAST-MODIFIED:20150808T210505Z
UID:6792-1453420800-1453507199@cinternat.com
SUMMARY:Science Bowl Senior High @6 pm
DESCRIPTION:Science Bowl Senior High @6 pm
URL:https://cinternat.com/event/science-bowl-senior-high-6-pm/
END:VEVENT
BEGIN:VEVENT
DTSTART;TZID=America/North_Dakota/Center:20160120T110000
DTEND;TZID=America/North_Dakota/Center:20160120T110000
DTSTAMP:20260425T140315
CREATED:20151108T201313Z
LAST-MODIFIED:20151108T201313Z
UID:6841-1453287600-1453287600@cinternat.com
SUMMARY:TWCP PTO Meetings @11AM LGI
DESCRIPTION:TWCP PTO Meetings @11AM LGI
URL:https://cinternat.com/event/twcp-pto-meetings-11am-lgi/
LOCATION:TWCP LGI 1
END:VEVENT
BEGIN:VEVENT
DTSTART;TZID=America/North_Dakota/Center:20160112T090000
DTEND;TZID=America/North_Dakota/Center:20160112T090000
DTSTAMP:20260425T140315
CREATED:20151108T200830Z
LAST-MODIFIED:20151108T200830Z
UID:6836-1452589200-1452589200@cinternat.com
SUMMARY:TWCP PTO Meetings @9AM LGI 2
DESCRIPTION:TWCP PTO Meetings @9AM LGI 2
URL:https://cinternat.com/event/twcp-pto-meetings-9am-lgi-2/
LOCATION:TWCP LGI 2
END:VEVENT
BEGIN:VEVENT
DTSTART;TZID=America/North_Dakota/Center:20160111T090000
DTEND;TZID=America/North_Dakota/Center:20160111T110000
DTSTAMP:20260425T140315
CREATED:20150703T014214Z
LAST-MODIFIED:20150703T014214Z
UID:6754-1452502800-1452510000@cinternat.com
SUMMARY:PAST January 2016 Board Meeting @LGI
DESCRIPTION:PAST January 2016 Board Meeting\nat CPHS LGI
URL:https://cinternat.com/event/past-january-2016-board-meeting-lg1/
LOCATION:TWCP LGI 1
CATEGORIES:PAST Meetings
END:VEVENT
BEGIN:VEVENT
DTSTART;TZID=America/North_Dakota/Center:20160109T090000
DTEND;TZID=America/North_Dakota/Center:20160109T170000
DTSTAMP:20260425T140315
CREATED:20150902T035919Z
LAST-MODIFIED:20150902T035919Z
UID:6822-1452330000-1452358800@cinternat.com
SUMMARY:FIRST Robotics Kick Off
DESCRIPTION:FIRST Robotics Kick Off
URL:https://cinternat.com/event/first-robotics-kick-off/
LOCATION:AST
CATEGORIES:AST
END:VEVENT
BEGIN:VEVENT
DTSTART;TZID=America/North_Dakota/Center:20151217T080000
DTEND;TZID=America/North_Dakota/Center:20151217T170000
DTSTAMP:20260425T140315
CREATED:20151108T200429Z
LAST-MODIFIED:20151108T200429Z
UID:6834-1450339200-1450371600@cinternat.com
SUMMARY:TWCP PTO Holiday Party at Armstrong Elementary
DESCRIPTION:TWCP PTO Holiday Party at Armstrong Elementary
URL:https://cinternat.com/event/twcp-pto-holiday-party-at-armstrong-elementary/
END:VEVENT
BEGIN:VEVENT
DTSTART;TZID=America/North_Dakota/Center:20151214T180000
DTEND;TZID=America/North_Dakota/Center:20151214T200000
DTSTAMP:20260425T140315
CREATED:20150703T012942Z
LAST-MODIFIED:20150703T012942Z
UID:6750-1450116000-1450123200@cinternat.com
SUMMARY:AST Staff and PAST Board Annual Holiday Party December 14 2015
DESCRIPTION:AST Staff and PAST Board Annual Holiday Party\nDecember 14 2015
URL:https://cinternat.com/event/past-december-2015-board-meeting/
CATEGORIES:PAST Meetings
END:VEVENT
BEGIN:VEVENT
DTSTART;TZID=America/North_Dakota/Center:20151210T180000
DTEND;TZID=America/North_Dakota/Center:20151210T190000
DTSTAMP:20260425T140315
CREATED:20150703T031143Z
LAST-MODIFIED:20150703T031143Z
UID:6765-1449770400-1449774000@cinternat.com
SUMMARY:DLS - Translational Cancer Research - by Dr. Faye Johnson
DESCRIPTION:Translational Cancer Research \nFaye Johnson\, MD\, PhD\nAssociate Professor\,\nDepartment of Thoracic/Head and Neck Medical Oncology\,\nDivision of Cancer Medicine\,\nThe University of Texas MD Anderson Cancer Center \nDistinguished Lecture Series @LGI
URL:https://cinternat.com/event/distinguished-lecture-serials-lg1-6/
LOCATION:TWCP LGI 1
CATEGORIES:Lectures
END:VEVENT
BEGIN:VEVENT
DTSTART;TZID=America/North_Dakota/Center:20151208T180000
DTEND;TZID=America/North_Dakota/Center:20151208T200000
DTSTAMP:20260425T140315
CREATED:20151023T024616Z
LAST-MODIFIED:20151023T024616Z
UID:6828-1449597600-1449604800@cinternat.com
SUMMARY:AST Internship Presentation Night 6-8pm
DESCRIPTION:AST Internship Presentation Night
URL:https://cinternat.com/event/ast-internship-presentation-night-6-8pm/
LOCATION:TWCP Commons
END:VEVENT
BEGIN:VEVENT
DTSTART;TZID=America/North_Dakota/Center:20151208T090000
DTEND;TZID=America/North_Dakota/Center:20151208T090000
DTSTAMP:20260425T140315
CREATED:20151108T200618Z
LAST-MODIFIED:20151108T200618Z
UID:6835-1449565200-1449565200@cinternat.com
SUMMARY:TWCP PTO Meetings @9AM LGI 2
DESCRIPTION:TWCP PTO Meetings @ 9:00AM LGI 2
URL:https://cinternat.com/event/twcp-pto-meetings-900am-lgi-2/
LOCATION:TWCP LGI 2
END:VEVENT
BEGIN:VEVENT
DTSTART;TZID=America/North_Dakota/Center:20151203T180000
DTEND;TZID=America/North_Dakota/Center:20151203T200000
DTSTAMP:20260425T140315
CREATED:20150902T035615Z
LAST-MODIFIED:20150902T035615Z
UID:6821-1449165600-1449172800@cinternat.com
SUMMARY:DI Instant Challenge Night  @6pm
DESCRIPTION:DI Instant Challenge Night  @6pm
URL:https://cinternat.com/event/di-instant-challenge-night-6pm-2/
END:VEVENT
BEGIN:VEVENT
DTSTART;TZID=America/North_Dakota/Center:20151120T064500
DTEND;TZID=America/North_Dakota/Center:20151120T071500
DTSTAMP:20260425T140315
CREATED:20150902T035445Z
LAST-MODIFIED:20150902T035445Z
UID:6820-1448001900-1448003700@cinternat.com
SUMMARY:Donut Days
DESCRIPTION:Donut Days
URL:https://cinternat.com/event/donut-day/
LOCATION:AST
CATEGORIES:AST
END:VEVENT
BEGIN:VEVENT
DTSTART;TZID=America/North_Dakota/Center:20151118T150000
DTEND;TZID=America/North_Dakota/Center:20151118T170000
DTSTAMP:20260425T140315
CREATED:20151108T200336Z
LAST-MODIFIED:20151108T200336Z
UID:6833-1447858800-1447866000@cinternat.com
SUMMARY:AST Exploration:  Tour to Huntsman Advanced Technology Center @3PM
DESCRIPTION:Exploration:  Tour to Huntsman Advanced Technology Center
URL:https://cinternat.com/event/ast-exploration-tour-to-huntsman-advanced-technology-center-3pm/
CATEGORIES:AST
END:VEVENT
BEGIN:VEVENT
DTSTART;VALUE=DATE:20151114
DTEND;VALUE=DATE:20151115
DTSTAMP:20260425T140315
CREATED:20150808T210055Z
LAST-MODIFIED:20150808T210055Z
UID:6791-1447459200-1447545599@cinternat.com
SUMMARY:Texas BEST Robotics
DESCRIPTION:Texas BEST Robotics
URL:https://cinternat.com/event/texas-best-robotics/
CATEGORIES:AST
END:VEVENT
BEGIN:VEVENT
DTSTART;VALUE=DATE:20151113
DTEND;VALUE=DATE:20151114
DTSTAMP:20260425T140315
CREATED:20150808T210017Z
LAST-MODIFIED:20150808T210017Z
UID:6790-1447372800-1447459199@cinternat.com
SUMMARY:Texas BEST Robotics  @ 7am
DESCRIPTION:Texas BEST Robotics  @ 7am
URL:https://cinternat.com/event/texas-best-robotics-7am/
CATEGORIES:AST
END:VEVENT
BEGIN:VEVENT
DTSTART;TZID=America/North_Dakota/Center:20151112T180000
DTEND;TZID=America/North_Dakota/Center:20151112T190000
DTSTAMP:20260425T140315
CREATED:20150703T031104Z
LAST-MODIFIED:20150703T031104Z
UID:6764-1447351200-1447354800@cinternat.com
SUMMARY:DLS - Orthopedic Surgeons: What We Do‐How You Can Get There\, Too! - by Dr. Richard P. Whittaker
DESCRIPTION:Orthopedic Surgeons: What We Do‐How You Can Get There\, Too! \nRichard P. Whittaker\, MD\, FACS\nOrthopedic Surgeon (retired) and Assistant Clinical Professor Emeritus at the University of Pennsylvania \nDistinguished Lecture Series @LGI
URL:https://cinternat.com/event/distinguished-lecture-serials-lg1-5/
LOCATION:TWCP LGI 1
CATEGORIES:Lectures
END:VEVENT
BEGIN:VEVENT
DTSTART;TZID=America/North_Dakota/Center:20151111T150000
DTEND;TZID=America/North_Dakota/Center:20151111T170000
DTSTAMP:20260425T140315
CREATED:20151108T200249Z
LAST-MODIFIED:20151108T200249Z
UID:6832-1447254000-1447261200@cinternat.com
SUMMARY:AST Exploration:  Tour to Anadarko Petroleum Corporation @3PM
DESCRIPTION:Exploration:  Tour to Anadarko Petroleum Corporation
URL:https://cinternat.com/event/ast-exploration-tour-to-anadarko-petroleum-corporation-3pm/
CATEGORIES:AST
END:VEVENT
BEGIN:VEVENT
DTSTART;TZID=America/North_Dakota/Center:20151111T110000
DTEND;TZID=America/North_Dakota/Center:20151111T110000
DTSTAMP:20260425T140315
CREATED:20151108T200126Z
LAST-MODIFIED:20151108T200126Z
UID:6831-1447239600-1447239600@cinternat.com
SUMMARY:Brown Bag Luncheon with the CP Counselors - "Testing Anxiety" @11AM LGI
DESCRIPTION:Brown Bag Luncheon with the CP Counselors – “Testing Anxiety”
URL:https://cinternat.com/event/brown-bag-luncheon-with-the-cp-counselors-testing-anxiety-11am-lgi/
LOCATION:TWCP LGI 1
END:VEVENT
BEGIN:VEVENT
DTSTART;TZID=America/North_Dakota/Center:20151110T090000
DTEND;TZID=America/North_Dakota/Center:20151110T090000
DTSTAMP:20260425T140315
CREATED:20151108T195918Z
LAST-MODIFIED:20151108T195918Z
UID:6830-1447146000-1447146000@cinternat.com
SUMMARY:TWCP PTO Meeting @9am LGI 2
DESCRIPTION:TWCP PTO Meeting @9am LGI 2
URL:https://cinternat.com/event/twcp-pto-meeting-9am-lgi-2/
LOCATION:TWCP PTO
END:VEVENT
BEGIN:VEVENT
DTSTART;TZID=America/North_Dakota/Center:20151109T180000
DTEND;TZID=America/North_Dakota/Center:20151109T200000
DTSTAMP:20260425T140315
CREATED:20150703T012851Z
LAST-MODIFIED:20150703T012851Z
UID:6749-1447092000-1447099200@cinternat.com
SUMMARY:PAST November 2015 Board Meeting @Library
DESCRIPTION:PAST November 2015 Board Meeting\nat CPHS Library
URL:https://cinternat.com/event/past-november-2015-board-meeting/
LOCATION:TWCP Library
CATEGORIES:PAST Meetings
END:VEVENT
BEGIN:VEVENT
DTSTART;TZID=America/North_Dakota/Center:20151027T180000
DTEND;TZID=America/North_Dakota/Center:20151027T190000
DTSTAMP:20260425T140315
CREATED:20150703T030942Z
LAST-MODIFIED:20150703T030942Z
UID:6763-1445968800-1445972400@cinternat.com
SUMMARY:DLS - Personalized Medicine & Cell Therapy‐The Future of Biotechnology - by Mr. Neal Warma
DESCRIPTION:Personalized Medicine & Cell Therapy‐The Future of Biotechnology \nMr. Neal Warma\nPresident & CEO  Opexa Therapeutics \nDistinguished Lecture Serials @LGI
URL:https://cinternat.com/event/distinguished-lecture-serials-lg1-4/
LOCATION:TWCP LGI 1
CATEGORIES:Lectures
END:VEVENT
BEGIN:VEVENT
DTSTART;TZID=America/North_Dakota/Center:20151024T080000
DTEND;TZID=America/North_Dakota/Center:20151024T170000
DTSTAMP:20260425T140315
CREATED:20151023T024912Z
LAST-MODIFIED:20151023T024912Z
UID:6829-1445673600-1445706000@cinternat.com
SUMMARY:FIRST Fall Remix @Oak Ridge HS
DESCRIPTION:FIRST Fall Remix @Oak Ridge HS \nFor more information\, visit Texas Torque Team 1477 web site – http://www.texastorque.org/theremix
URL:https://cinternat.com/event/first-fall-remix-oak-ridge-hs/
LOCATION:Oak Ridge HS
END:VEVENT
BEGIN:VEVENT
DTSTART;TZID=America/North_Dakota/Center:20151020T180000
DTEND;TZID=America/North_Dakota/Center:20151020T210000
DTSTAMP:20260425T140315
CREATED:20150902T035235Z
LAST-MODIFIED:20150902T035235Z
UID:6819-1445364000-1445374800@cinternat.com
SUMMARY:DI Instant Challenge Night  @6pm
DESCRIPTION:DI Instant Challenge Night  @6pm
URL:https://cinternat.com/event/di-instant-challenge-night-6pm/
LOCATION:AST
CATEGORIES:AST
END:VEVENT
BEGIN:VEVENT
DTSTART;TZID=America/North_Dakota/Center:20151017T080000
DTEND;TZID=America/North_Dakota/Center:20151017T180000
DTSTAMP:20260425T140315
CREATED:20150703T033529Z
LAST-MODIFIED:20150703T033529Z
UID:6778-1445068800-1445104800@cinternat.com
SUMMARY:BEST Robotics Competition
DESCRIPTION:BEST Robotics Competition
URL:https://cinternat.com/event/best-robotics-competition/
CATEGORIES:AST
END:VEVENT
END:VCALENDAR