BEGIN:VCALENDAR
VERSION:2.0
PRODID:-//P. A. S. T. - ECPv6.15.20//NONSGML v1.0//EN
CALSCALE:GREGORIAN
METHOD:PUBLISH
X-WR-CALNAME:P. A. S. T.
X-ORIGINAL-URL:https://cinternat.com
X-WR-CALDESC:Events for P. A. S. T.
REFRESH-INTERVAL;VALUE=DURATION:PT1H
X-Robots-Tag:noindex
X-PUBLISHED-TTL:PT1H
BEGIN:VTIMEZONE
TZID:America/North_Dakota/Center
BEGIN:DAYLIGHT
TZOFFSETFROM:-0600
TZOFFSETTO:-0500
TZNAME:CDT
DTSTART:20170312T080000
END:DAYLIGHT
BEGIN:STANDARD
TZOFFSETFROM:-0500
TZOFFSETTO:-0600
TZNAME:CST
DTSTART:20171105T070000
END:STANDARD
BEGIN:DAYLIGHT
TZOFFSETFROM:-0600
TZOFFSETTO:-0500
TZNAME:CDT
DTSTART:20180311T080000
END:DAYLIGHT
BEGIN:STANDARD
TZOFFSETFROM:-0500
TZOFFSETTO:-0600
TZNAME:CST
DTSTART:20181104T070000
END:STANDARD
BEGIN:DAYLIGHT
TZOFFSETFROM:-0600
TZOFFSETTO:-0500
TZNAME:CDT
DTSTART:20190310T080000
END:DAYLIGHT
BEGIN:STANDARD
TZOFFSETFROM:-0500
TZOFFSETTO:-0600
TZNAME:CST
DTSTART:20191103T070000
END:STANDARD
BEGIN:DAYLIGHT
TZOFFSETFROM:-0600
TZOFFSETTO:-0500
TZNAME:CDT
DTSTART:20200308T080000
END:DAYLIGHT
BEGIN:STANDARD
TZOFFSETFROM:-0500
TZOFFSETTO:-0600
TZNAME:CST
DTSTART:20201101T070000
END:STANDARD
END:VTIMEZONE
BEGIN:VEVENT
DTSTART;VALUE=DATE:20190409
DTEND;VALUE=DATE:20190410
DTSTAMP:20260425T072826
CREATED:20190113T000506Z
LAST-MODIFIED:20190113T000506Z
UID:7001-1554768000-1554854399@cinternat.com
SUMMARY:STAAR English I EOC
DESCRIPTION:
URL:https://cinternat.com/event/staar-english-i-eoc/
CATEGORIES:AST,TWCP
END:VEVENT
BEGIN:VEVENT
DTSTART;TZID=America/North_Dakota/Center:20190326T060000
DTEND;TZID=America/North_Dakota/Center:20190326T190000
DTSTAMP:20260425T072826
CREATED:20190113T000326Z
LAST-MODIFIED:20190113T000326Z
UID:7000-1553580000-1553626800@cinternat.com
SUMMARY:Distinguished Lecture Series
DESCRIPTION:
URL:https://cinternat.com/event/distinguished-lecture-series-16/
LOCATION:TWCP LGI 1
CATEGORIES:AST,Lectures
END:VEVENT
BEGIN:VEVENT
DTSTART;TZID=America/North_Dakota/Center:20190318T180000
DTEND;TZID=America/North_Dakota/Center:20190318T200000
DTSTAMP:20260425T072826
CREATED:20190113T000205Z
LAST-MODIFIED:20190113T000205Z
UID:6999-1552932000-1552939200@cinternat.com
SUMMARY:PAST Board Meeting
DESCRIPTION:
URL:https://cinternat.com/event/past-board-meeting-6/
LOCATION:TWCP Library
CATEGORIES:PAST Meetings
END:VEVENT
BEGIN:VEVENT
DTSTART;TZID=America/North_Dakota/Center:20190308T063000
DTEND;TZID=America/North_Dakota/Center:20190308T073000
DTSTAMP:20260425T072826
CREATED:20190113T000047Z
LAST-MODIFIED:20190113T000047Z
UID:6998-1552026600-1552030200@cinternat.com
SUMMARY:AST Donut Day
DESCRIPTION:
URL:https://cinternat.com/event/ast-donut-day-2/
CATEGORIES:AST,PAST Activities
END:VEVENT
BEGIN:VEVENT
DTSTART;TZID=America/North_Dakota/Center:20190306T163000
DTEND;TZID=America/North_Dakota/Center:20190306T200000
DTSTAMP:20260425T072826
CREATED:20190113T001941Z
LAST-MODIFIED:20190113T001941Z
UID:7006-1551889800-1551902400@cinternat.com
SUMMARY:PAST General Meeting; Freshman Parent Dessert Reception
DESCRIPTION:
URL:https://cinternat.com/event/past-general-meeting-freshman-parent-dessert-reception/
LOCATION:TWCP Commons
CATEGORIES:AST,PAST Activities,PAST Meetings,TWCP
END:VEVENT
BEGIN:VEVENT
DTSTART;TZID=America/North_Dakota/Center:20190305T180000
DTEND;TZID=America/North_Dakota/Center:20190305T190000
DTSTAMP:20260425T072826
CREATED:20190112T235841Z
LAST-MODIFIED:20190112T235841Z
UID:6997-1551808800-1551812400@cinternat.com
SUMMARY:Distinguished Lecture Series
DESCRIPTION:
URL:https://cinternat.com/event/distinguished-lecture-series-15/
LOCATION:TWCP LGI 1
CATEGORIES:AST,Lectures,PAST Activities
END:VEVENT
BEGIN:VEVENT
DTSTART;TZID=America/North_Dakota/Center:20190226T180000
DTEND;TZID=America/North_Dakota/Center:20190226T190000
DTSTAMP:20260425T072826
CREATED:20190112T235302Z
LAST-MODIFIED:20190112T235302Z
UID:6996-1551204000-1551207600@cinternat.com
SUMMARY:Distinguished Lecture Series
DESCRIPTION:
URL:https://cinternat.com/event/distinguished-lecture-series-14/
LOCATION:TWCP LGI 1
CATEGORIES:AST,Lectures,PAST Activities
END:VEVENT
BEGIN:VEVENT
DTSTART;TZID=America/North_Dakota/Center:20190219T180000
DTEND;TZID=America/North_Dakota/Center:20190219T210000
DTSTAMP:20260425T072826
CREATED:20190112T235118Z
LAST-MODIFIED:20190112T235118Z
UID:6995-1550599200-1550610000@cinternat.com
SUMMARY:Register the Class of 2023
DESCRIPTION:
URL:https://cinternat.com/event/register-the-class-of-2023/
LOCATION:TWCP Commons
CATEGORIES:AST,TWCP
END:VEVENT
BEGIN:VEVENT
DTSTART;TZID=America/North_Dakota/Center:20190212T180000
DTEND;TZID=America/North_Dakota/Center:20190212T190000
DTSTAMP:20260425T072826
CREATED:20190112T234906Z
LAST-MODIFIED:20190112T234906Z
UID:6994-1549994400-1549998000@cinternat.com
SUMMARY:Distinguished Lecture Series
DESCRIPTION:
URL:https://cinternat.com/event/distinguished-lecture-series-13/
LOCATION:TWCP LGI 1
CATEGORIES:AST,Lectures,PAST Activities
END:VEVENT
BEGIN:VEVENT
DTSTART;TZID=America/North_Dakota/Center:20190211T180000
DTEND;TZID=America/North_Dakota/Center:20190211T200000
DTSTAMP:20260425T072826
CREATED:20190112T234728Z
LAST-MODIFIED:20190112T234728Z
UID:6993-1549908000-1549915200@cinternat.com
SUMMARY:PAST Board Meeting
DESCRIPTION:
URL:https://cinternat.com/event/past-board-meeting-5/
LOCATION:TWCP Library
CATEGORIES:AST,PAST Meetings
END:VEVENT
BEGIN:VEVENT
DTSTART;TZID=America/North_Dakota/Center:20190201T080000
DTEND;TZID=America/North_Dakota/Center:20190201T170000
DTSTAMP:20260425T072826
CREATED:20190112T234303Z
LAST-MODIFIED:20190112T234303Z
UID:6991-1549008000-1549040400@cinternat.com
SUMMARY:Science Fair
DESCRIPTION:
URL:https://cinternat.com/event/science-fair/
END:VEVENT
BEGIN:VEVENT
DTSTART;TZID=America/North_Dakota/Center:20190128T170000
DTEND;TZID=America/North_Dakota/Center:20190128T213000
DTSTAMP:20260425T072826
CREATED:20190112T233508Z
LAST-MODIFIED:20190112T233508Z
UID:6990-1548694800-1548711000@cinternat.com
SUMMARY:AST Interviews
DESCRIPTION:
URL:https://cinternat.com/event/ast-interviews-3/
LOCATION:TWCP
END:VEVENT
BEGIN:VEVENT
DTSTART;TZID=America/North_Dakota/Center:20190124T170000
DTEND;TZID=America/North_Dakota/Center:20190124T213000
DTSTAMP:20260425T072826
CREATED:20190112T233403Z
LAST-MODIFIED:20190112T233403Z
UID:6989-1548349200-1548365400@cinternat.com
SUMMARY:AST Interviews
DESCRIPTION:
URL:https://cinternat.com/event/ast-interviews-2/
LOCATION:TWCP
END:VEVENT
BEGIN:VEVENT
DTSTART;TZID=America/North_Dakota/Center:20190122T170000
DTEND;TZID=America/North_Dakota/Center:20190122T213000
DTSTAMP:20260425T072826
CREATED:20190112T233014Z
LAST-MODIFIED:20190112T233014Z
UID:6988-1548176400-1548192600@cinternat.com
SUMMARY:AST Interviews
DESCRIPTION:1315\, 1313\, 1312\, 1309\, 1307\, 1306\, 1304
URL:https://cinternat.com/event/ast-interviews/
LOCATION:TWCP
CATEGORIES:AST,PAST Meetings,TWCP
END:VEVENT
BEGIN:VEVENT
DTSTART;TZID=America/North_Dakota/Center:20190118T090000
DTEND;TZID=America/North_Dakota/Center:20190118T110000
DTSTAMP:20260425T072826
CREATED:20190112T232305Z
LAST-MODIFIED:20190112T232305Z
UID:6987-1547802000-1547809200@cinternat.com
SUMMARY:Coffee w the Headmaster
DESCRIPTION:
URL:https://cinternat.com/event/coffee-w-the-headmaster-2/
LOCATION:TWCP LGI 1
CATEGORIES:AST,PAST Meetings,TWCP
END:VEVENT
BEGIN:VEVENT
DTSTART;TZID=America/North_Dakota/Center:20190114T180000
DTEND;TZID=America/North_Dakota/Center:20190114T210000
DTSTAMP:20260425T072826
CREATED:20190112T234548Z
LAST-MODIFIED:20190112T234548Z
UID:6992-1547488800-1547499600@cinternat.com
SUMMARY:PAST Board Meeting
DESCRIPTION:
URL:https://cinternat.com/event/past-board-meeting-4/
LOCATION:TWCP Library
CATEGORIES:AST,PAST Meetings
END:VEVENT
BEGIN:VEVENT
DTSTART;TZID=America/North_Dakota/Center:20180927T180000
DTEND;TZID=America/North_Dakota/Center:20180927T210000
DTSTAMP:20260425T072826
CREATED:20180812T221333Z
LAST-MODIFIED:20180812T221333Z
UID:6985-1538071200-1538082000@cinternat.com
SUMMARY:AST Information Night
DESCRIPTION:
URL:https://cinternat.com/event/ast-information-night-2/
LOCATION:TWCP Commons
END:VEVENT
BEGIN:VEVENT
DTSTART;TZID=America/North_Dakota/Center:20180924T180000
DTEND;TZID=America/North_Dakota/Center:20180924T210000
DTSTAMP:20260425T072826
CREATED:20180812T220954Z
LAST-MODIFIED:20180812T220954Z
UID:6984-1537812000-1537822800@cinternat.com
SUMMARY:AST Information Night
DESCRIPTION:
URL:https://cinternat.com/event/ast-information-night/
LOCATION:TWCP Commons
END:VEVENT
BEGIN:VEVENT
DTSTART;TZID=America/North_Dakota/Center:20180920T180000
DTEND;TZID=America/North_Dakota/Center:20180920T203000
DTSTAMP:20260425T072826
CREATED:20180812T220750Z
LAST-MODIFIED:20180812T220750Z
UID:6983-1537466400-1537475400@cinternat.com
SUMMARY:AST Science Fair Information Night
DESCRIPTION:
URL:https://cinternat.com/event/ast-science-fair-information-night/
LOCATION:TWCP Commons
END:VEVENT
BEGIN:VEVENT
DTSTART;TZID=America/North_Dakota/Center:20180915T100000
DTEND;TZID=America/North_Dakota/Center:20180915T130000
DTSTAMP:20260425T072826
CREATED:20180812T220544Z
LAST-MODIFIED:20180812T220544Z
UID:6982-1537005600-1537016400@cinternat.com
SUMMARY:AST Picnic
DESCRIPTION:
URL:https://cinternat.com/event/ast-picnic/
END:VEVENT
BEGIN:VEVENT
DTSTART;TZID=America/North_Dakota/Center:20180914T090000
DTEND;TZID=America/North_Dakota/Center:20180914T110000
DTSTAMP:20260425T072826
CREATED:20180812T220301Z
LAST-MODIFIED:20180812T220301Z
UID:6981-1536915600-1536922800@cinternat.com
SUMMARY:Coffee w the Headmaster
DESCRIPTION:
URL:https://cinternat.com/event/coffee-w-the-headmaster/
END:VEVENT
BEGIN:VEVENT
DTSTART;TZID=America/North_Dakota/Center:20180911T180000
DTEND;TZID=America/North_Dakota/Center:20180911T190000
DTSTAMP:20260425T072826
CREATED:20180812T220135Z
LAST-MODIFIED:20180812T220135Z
UID:6980-1536688800-1536692400@cinternat.com
SUMMARY:Distinguished Lecture Series
DESCRIPTION:
URL:https://cinternat.com/event/distinguished-lecture-series-12/
END:VEVENT
BEGIN:VEVENT
DTSTART;TZID=America/North_Dakota/Center:20180910T180000
DTEND;TZID=America/North_Dakota/Center:20180910T200000
DTSTAMP:20260425T072826
CREATED:20180812T220038Z
LAST-MODIFIED:20180812T220038Z
UID:6979-1536602400-1536609600@cinternat.com
SUMMARY:PAST Board Meeting
DESCRIPTION:
URL:https://cinternat.com/event/past-board-meeting-3/
END:VEVENT
BEGIN:VEVENT
DTSTART;TZID=America/North_Dakota/Center:20180831T063000
DTEND;TZID=America/North_Dakota/Center:20180831T073000
DTSTAMP:20260425T072826
CREATED:20180812T215900Z
LAST-MODIFIED:20180812T215900Z
UID:6978-1535697000-1535700600@cinternat.com
SUMMARY:AST Donut Day
DESCRIPTION:
URL:https://cinternat.com/event/ast-donut-day/
END:VEVENT
BEGIN:VEVENT
DTSTART;TZID=America/North_Dakota/Center:20180828T060000
DTEND;TZID=America/North_Dakota/Center:20180828T190000
DTSTAMP:20260425T072826
CREATED:20180812T215742Z
LAST-MODIFIED:20180812T215742Z
UID:6977-1535436000-1535482800@cinternat.com
SUMMARY:Distinguished Lecture Series
DESCRIPTION:
URL:https://cinternat.com/event/distinguished-lecture-series-11/
END:VEVENT
BEGIN:VEVENT
DTSTART;VALUE=DATE:20180817
DTEND;VALUE=DATE:20180818
DTSTAMP:20260425T072826
CREATED:20180813T234343Z
LAST-MODIFIED:20180813T234343Z
UID:6986-1534464000-1534550399@cinternat.com
SUMMARY:Last day to order PAST apparel
DESCRIPTION:
URL:https://cinternat.com/event/last-day-to-order-past-apparel/
END:VEVENT
BEGIN:VEVENT
DTSTART;TZID=America/North_Dakota/Center:20180813T180000
DTEND;TZID=America/North_Dakota/Center:20180813T200000
DTSTAMP:20260425T072826
CREATED:20180812T215426Z
LAST-MODIFIED:20180812T215426Z
UID:6976-1534183200-1534190400@cinternat.com
SUMMARY:PAST Board Meeting
DESCRIPTION:PAST Board Meeting
URL:https://cinternat.com/event/past-board-meeting-2/
LOCATION:TWCP Library
END:VEVENT
BEGIN:VEVENT
DTSTART;TZID=America/North_Dakota/Center:20180604T090000
DTEND;TZID=America/North_Dakota/Center:20180604T110000
DTSTAMP:20260425T072826
CREATED:20150703T014819Z
LAST-MODIFIED:20150703T014819Z
UID:6759-1528102800-1528110000@cinternat.com
SUMMARY:PAST Board Meeting @Library Jun 4th\, 2018
DESCRIPTION:PAST Board Meeting @Library Jun 4th\, 2018
URL:https://cinternat.com/event/past-june-2016-board-meeting-library/
LOCATION:TWCP Library
CATEGORIES:PAST Meetings
END:VEVENT
BEGIN:VEVENT
DTSTART;TZID=America/North_Dakota/Center:20180524T190000
DTEND;TZID=America/North_Dakota/Center:20180524T210000
DTSTAMP:20260425T072826
CREATED:20150703T034650Z
LAST-MODIFIED:20150703T034650Z
UID:6785-1527188400-1527195600@cinternat.com
SUMMARY:AST Freshman Research Symposium @Auditorium
DESCRIPTION:AST Freshman Research Symposium\nat CPHS Auditorium
URL:https://cinternat.com/event/ast-freshman-research-symposium-auditorium/
LOCATION:TWCP Auditorium
CATEGORIES:AST
END:VEVENT
BEGIN:VEVENT
DTSTART;TZID=America/North_Dakota/Center:20180523T170000
DTEND;TZID=America/North_Dakota/Center:20180523T180000
DTSTAMP:20260425T072826
CREATED:20150703T034512Z
LAST-MODIFIED:20150703T034512Z
UID:6784-1527094800-1527098400@cinternat.com
SUMMARY:PAST General Meeting @Commons May 23rd\, 2018
DESCRIPTION:PAST General Meeting May 23rd\, 2018\nat CPHS Commons
URL:https://cinternat.com/event/past-general-meeting-commons/
LOCATION:TWCP Commons
CATEGORIES:PAST Meetings
END:VEVENT
END:VCALENDAR