BEGIN:VCALENDAR
VERSION:2.0
PRODID:-//P. A. S. T. - ECPv6.15.20//NONSGML v1.0//EN
CALSCALE:GREGORIAN
METHOD:PUBLISH
X-WR-CALNAME:P. A. S. T.
X-ORIGINAL-URL:https://cinternat.com
X-WR-CALDESC:Events for P. A. S. T.
REFRESH-INTERVAL;VALUE=DURATION:PT1H
X-Robots-Tag:noindex
X-PUBLISHED-TTL:PT1H
BEGIN:VTIMEZONE
TZID:America/North_Dakota/Center
BEGIN:DAYLIGHT
TZOFFSETFROM:-0600
TZOFFSETTO:-0500
TZNAME:CDT
DTSTART:20180311T080000
END:DAYLIGHT
BEGIN:STANDARD
TZOFFSETFROM:-0500
TZOFFSETTO:-0600
TZNAME:CST
DTSTART:20181104T070000
END:STANDARD
BEGIN:DAYLIGHT
TZOFFSETFROM:-0600
TZOFFSETTO:-0500
TZNAME:CDT
DTSTART:20190310T080000
END:DAYLIGHT
BEGIN:STANDARD
TZOFFSETFROM:-0500
TZOFFSETTO:-0600
TZNAME:CST
DTSTART:20191103T070000
END:STANDARD
BEGIN:DAYLIGHT
TZOFFSETFROM:-0600
TZOFFSETTO:-0500
TZNAME:CDT
DTSTART:20200308T080000
END:DAYLIGHT
BEGIN:STANDARD
TZOFFSETFROM:-0500
TZOFFSETTO:-0600
TZNAME:CST
DTSTART:20201101T070000
END:STANDARD
BEGIN:DAYLIGHT
TZOFFSETFROM:-0600
TZOFFSETTO:-0500
TZNAME:CDT
DTSTART:20210314T080000
END:DAYLIGHT
BEGIN:STANDARD
TZOFFSETFROM:-0500
TZOFFSETTO:-0600
TZNAME:CST
DTSTART:20211107T070000
END:STANDARD
END:VTIMEZONE
BEGIN:VEVENT
DTSTART;TZID=America/North_Dakota/Center:20201024T070000
DTEND;TZID=America/North_Dakota/Center:20201024T130000
DTSTAMP:20260425T060105
CREATED:20200602T225717Z
LAST-MODIFIED:20200602T225717Z
UID:7048-1603522800-1603544400@cinternat.com
SUMMARY:AST Testing
DESCRIPTION:
URL:https://cinternat.com/event/ast-testing-6/
LOCATION:Commons
CATEGORIES:AST
END:VEVENT
BEGIN:VEVENT
DTSTART;TZID=America/North_Dakota/Center:20201017T070000
DTEND;TZID=America/North_Dakota/Center:20201017T130000
DTSTAMP:20260425T060105
CREATED:20200602T224753Z
LAST-MODIFIED:20200602T224753Z
UID:7046-1602918000-1602939600@cinternat.com
SUMMARY:AST Testing
DESCRIPTION:
URL:https://cinternat.com/event/ast-testing-5/
LOCATION:Commons
CATEGORIES:AST
END:VEVENT
BEGIN:VEVENT
DTSTART;TZID=America/North_Dakota/Center:20201014T073000
DTEND;TZID=America/North_Dakota/Center:20201014T120000
DTSTAMP:20260425T060105
CREATED:20200602T225533Z
LAST-MODIFIED:20200602T225533Z
UID:7047-1602660600-1602676800@cinternat.com
SUMMARY:PSAT
DESCRIPTION:All CISD sophomores and juniors are scheduled to take the PSAT.\nThis exam is FREE – and no registration is necessary. The PSAT gives students practice and feedback on college math\, reading\, and writing skills; the exam also gives students free tools to better prepare for college. \nLearn more about the PSAT
URL:https://cinternat.com/event/psat/
LOCATION:TWCP
CATEGORIES:TWCP
END:VEVENT
BEGIN:VEVENT
DTSTART;TZID=America/North_Dakota/Center:20201006T180000
DTEND;TZID=America/North_Dakota/Center:20201006T190000
DTSTAMP:20260425T060105
CREATED:20200602T232054Z
LAST-MODIFIED:20200602T232054Z
UID:7050-1602007200-1602010800@cinternat.com
SUMMARY:Distinguished Lecture Series *Virtual*
DESCRIPTION:Pressure Pumping and Welbore Intervention Product Lines \nGuest: Kim Chandler\, Senior Intellectual Property Counsel\, Baker Hughes \nZOOM info: TBA
URL:https://cinternat.com/event/distinguished-lecture-series-25/
LOCATION:Virtual
CATEGORIES:AST,Lectures
END:VEVENT
BEGIN:VEVENT
DTSTART;TZID=America/North_Dakota/Center:20201006T100000
DTEND;TZID=America/North_Dakota/Center:20201006T130000
DTSTAMP:20260425T060105
CREATED:20200930T024155Z
LAST-MODIFIED:20200930T024155Z
UID:7062-1601978400-1601989200@cinternat.com
SUMMARY:CP PTO Brown Bag Luncheon
DESCRIPTION:Guest Speaker: Principal of College Park High School\, Dr.  Mark Murrell \nJoin Zoom Meeting\nhttps://zoom.us/j/2858503000?pwd=UllNcjRTVUNDL0tIQlljNTdGdWlQZz09 \nMeeting ID:  285 850 3000\nPasscode:  MCj8ZC
URL:https://cinternat.com/event/cp-pto-brown-bag-luncheon/
LOCATION:Virtual
CATEGORIES:TWCP
ATTACH;FMTTYPE=image/jpeg:https://cinternat.com/wp-content/uploads/2020/09/CPPTO_BrownBag_01.jpg
END:VEVENT
BEGIN:VEVENT
DTSTART;TZID=America/North_Dakota/Center:20201005T060000
DTEND;TZID=America/North_Dakota/Center:20201005T200000
DTSTAMP:20260425T060105
CREATED:20200602T223804Z
LAST-MODIFIED:20200602T223804Z
UID:7044-1601877600-1601928000@cinternat.com
SUMMARY:P.A.S.T. Board meeting
DESCRIPTION:
URL:https://cinternat.com/event/p-a-s-t-board-meeting-5/
LOCATION:Online
CATEGORIES:PAST Meetings
END:VEVENT
BEGIN:VEVENT
DTSTART;TZID=America/North_Dakota/Center:20201001T180000
DTEND;TZID=America/North_Dakota/Center:20201001T200000
DTSTAMP:20260425T060105
CREATED:20200530T000515Z
LAST-MODIFIED:20200530T000515Z
UID:7043-1601575200-1601582400@cinternat.com
SUMMARY:AST Information Night *Virtual*
DESCRIPTION:Register for Information Night in order to receive Zoom invitation: \nhttps://www.surveymonkey.com/r/727TM69
URL:https://cinternat.com/event/ast-information-night-4/
LOCATION:Virtual
CATEGORIES:AST
END:VEVENT
BEGIN:VEVENT
DTSTART;TZID=America/North_Dakota/Center:20200928T180000
DTEND;TZID=America/North_Dakota/Center:20200928T200000
DTSTAMP:20260425T060105
CREATED:20200530T000436Z
LAST-MODIFIED:20200530T000436Z
UID:7042-1601316000-1601323200@cinternat.com
SUMMARY:AST Information Night *Virtual*
DESCRIPTION:Register for Information Night in order to receive Zoom invitation: \nhttps://www.surveymonkey.com/r/727TM69 \n 
URL:https://cinternat.com/event/ast-information-night-3/
LOCATION:Virtual
CATEGORIES:AST
END:VEVENT
BEGIN:VEVENT
DTSTART;TZID=America/North_Dakota/Center:20200917T170000
DTEND;TZID=America/North_Dakota/Center:20200917T203000
DTSTAMP:20260425T060105
CREATED:20200530T000314Z
LAST-MODIFIED:20200530T000314Z
UID:7041-1600362000-1600374600@cinternat.com
SUMMARY:AST Science Fair Information Night *Virtual*
DESCRIPTION:<details TBA> \n\nSRD students are required to “attend”\nStudents in grades 10-12 are strongly encouraged to “attend.” \n\nView award winning science fair projects.  \nLearn about the opportunities that science fair gives to students.  \nTalk to experts about science fair project ideas.
URL:https://cinternat.com/event/ast-science-fair-information-night-3/
LOCATION:Virtual
CATEGORIES:AST
END:VEVENT
BEGIN:VEVENT
DTSTART;TZID=America/North_Dakota/Center:20200914T180000
DTEND;TZID=America/North_Dakota/Center:20200914T200000
DTSTAMP:20260425T060105
CREATED:20200529T235221Z
LAST-MODIFIED:20200529T235221Z
UID:7040-1600106400-1600113600@cinternat.com
SUMMARY:P.A.S.T. Board Meeting
DESCRIPTION:
URL:https://cinternat.com/event/p-a-s-t-board-meeting-4/
LOCATION:TWCP Library
CATEGORIES:PAST Meetings
END:VEVENT
BEGIN:VEVENT
DTSTART;TZID=America/North_Dakota/Center:20200912T080000
DTEND;TZID=America/North_Dakota/Center:20200912T100000
DTSTAMP:20260425T060105
CREATED:20200529T235004Z
LAST-MODIFIED:20200529T235004Z
UID:7039-1599897600-1599904800@cinternat.com
SUMMARY:AST Picnic
DESCRIPTION:Please enter from Honor Roll Drive \n\nTwo options to pick up your AST merchandise\, AST directory\, AST planners\, students’ explorations journals\, membership incentives and last but not least\, get a taste of a true AST Donut Day. \nOption 1: Park and Pick up\nPark in one of the Visitor Parking Lots and visit our P.A.S.T. volunteers at the three pick-up tents in front of the school.\nWe will adhere to the social distancing rules and all our volunteers will wear face coverings. We ask that you do too. \nOption 2:  Curbside pick up\nPlease park and text to 936.718.1940 with your last name\, what class is your student in and what car you are in and let us know what you are picking up.  A friendly P.A.S.T. volunteer will deliver your items directly to your car. \n\nFor those who choose the first option\, we will have the following stations set up: \nStation/Tent 1: AST Merchandise \n\nPlease note that this is for pick up of pre- ordered merchandise only. We won’t be selling any merchandise. If you would like to order\, we will be opening our online store later on this month.\n\nStation/Tent 2: AST Directory/Membership incentives \n\nPick up Directories\, membership incentives\, AST planners\, students’ explorations journals\nStation/Tent 3: P.A.S.T. Hospitality\nPick up your fresh donut holes and a drink.\n\n  \nDue to the current restrictions we will not be taking any membership payments. If you have not yet joined  we ask that you please join P.A.S.T. \nWe encourage you to view our video messages we have prepared for you in lieu of an in person presentation.\nWatch 2020-2021 Welcome Reception.
URL:https://cinternat.com/event/ast-picnic-3/
LOCATION:Commons
CATEGORIES:AST,PAST Activities
ATTACH;FMTTYPE=image/png:https://cinternat.com/wp-content/uploads/2020/05/TWCP_building.png
END:VEVENT
BEGIN:VEVENT
DTSTART;TZID=America/North_Dakota/Center:20200908T180000
DTEND;TZID=America/North_Dakota/Center:20200908T190000
DTSTAMP:20260425T060105
CREATED:20200529T234229Z
LAST-MODIFIED:20200529T234229Z
UID:7038-1599588000-1599591600@cinternat.com
SUMMARY:Distinguished Lecture Series * Virtual*
DESCRIPTION:Origin of Elements in the Universe \nSpeaker:  Grigory Rogachev\, Ph.D. Professor and Head Department of Physics & Astronomy \n 
URL:https://cinternat.com/event/distinguished-lecture-series-22/
LOCATION:Virtual
CATEGORIES:Lectures
END:VEVENT
BEGIN:VEVENT
DTSTART;TZID=America/North_Dakota/Center:20200904T090000
DTEND;TZID=America/North_Dakota/Center:20200904T103000
DTSTAMP:20260425T060105
CREATED:20200529T234028Z
LAST-MODIFIED:20200529T234028Z
UID:7037-1599210000-1599215400@cinternat.com
SUMMARY:Coffee with the Headmaster ☕️ *Virtual*
DESCRIPTION:Dr. Caffery created a Module in the Academy General Canvas course titled Coffee with the Headmaster. \n\nDownload Dr. Caffery’s presentation HERE\n\n\nDr. Caffery will open a Zoom meeting for Questions and Answers on Friday\, Sept. 4 at 9:00 a.m. 
URL:https://cinternat.com/event/coffee-with-the-headmaster-%e2%98%95%ef%b8%8f/
LOCATION:Virtual
CATEGORIES:AST,PAST Activities
ATTACH;FMTTYPE=image/png:https://cinternat.com/wp-content/uploads/2020/05/AST_20200828_CofeeHeadmaster.png
END:VEVENT
BEGIN:VEVENT
DTSTART;TZID=America/North_Dakota/Center:20200903T150000
DTEND;TZID=America/North_Dakota/Center:20200903T180000
DTSTAMP:20260425T060105
CREATED:20200729T023803Z
LAST-MODIFIED:20200729T023803Z
UID:7059-1599145200-1599156000@cinternat.com
SUMMARY:Schedule Walk | Club and Organization Fair
DESCRIPTION:Schedule Walk/Club and Organization Fair\nSeptember 3rd  | 3 p.m. – 6 p.m.\n\nCome and go during the time.\nOpen to all grades\nOpportunity to collect information from our clubs and organizations and get involved\nOpportunity for students to walk their schedule and become familiar with the building.
URL:https://cinternat.com/event/schedule-walk-club-and-organization-fair/
CATEGORIES:TWCP
END:VEVENT
BEGIN:VEVENT
DTSTART;TZID=America/North_Dakota/Center:20200828T063000
DTEND;TZID=America/North_Dakota/Center:20200828T071500
DTSTAMP:20260425T060105
CREATED:20200529T233015Z
LAST-MODIFIED:20200529T233015Z
UID:7036-1598596200-1598598900@cinternat.com
SUMMARY:Canceled: AST Donut Day
DESCRIPTION:
URL:https://cinternat.com/event/ast-donut-day-%f0%9f%8d%a9-%f0%9f%8d%a9-%f0%9f%8d%a9/
CATEGORIES:AST
END:VEVENT
BEGIN:VEVENT
DTSTART;TZID=America/North_Dakota/Center:20200825T180000
DTEND;TZID=America/North_Dakota/Center:20200825T190000
DTSTAMP:20260425T060105
CREATED:20200529T232354Z
LAST-MODIFIED:20200529T232354Z
UID:7035-1598378400-1598382000@cinternat.com
SUMMARY:Distinguished Lecture Series *Virtual*
DESCRIPTION:Time Traveling Chemist \n Speaker: Mark Vorderbruggen\, Ph.D.  \nZOOM info: TBA
URL:https://cinternat.com/event/distinguished-lecture-series-21/
LOCATION:Virtual
CATEGORIES:Lectures
END:VEVENT
BEGIN:VEVENT
DTSTART;TZID=America/North_Dakota/Center:20200820T180000
DTEND;TZID=America/North_Dakota/Center:20200820T200000
DTSTAMP:20260425T060105
CREATED:20200818T044008Z
LAST-MODIFIED:20200818T044008Z
UID:7060-1597946400-1597953600@cinternat.com
SUMMARY:CPHS Open House *Virtual*
DESCRIPTION:Open House will be virtual this year. \nTeachers will post a video or presentation on their Canvas pages for families to view. \nCISD Canvas
URL:https://cinternat.com/event/cphs-open-house/
LOCATION:Online
CATEGORIES:AST,TWCP
ATTACH;FMTTYPE=image/png:https://cinternat.com/wp-content/uploads/2020/08/2020_OpenHouse.png
END:VEVENT
BEGIN:VEVENT
DTSTART;TZID=America/North_Dakota/Center:20200819T150000
DTEND;TZID=America/North_Dakota/Center:20200819T160000
DTSTAMP:20260425T060105
CREATED:20200529T232107Z
LAST-MODIFIED:20200529T232107Z
UID:7034-1597849200-1597852800@cinternat.com
SUMMARY:AST Underclassmen Awards 🏆 *Virtual*
DESCRIPTION:Rescheduled celebration of the hard work and successes of AST Underclassmen for the 2019-2020 school year. \nAug. 17 – Update: This will be presented virtually. Details TBA
URL:https://cinternat.com/event/ast-underclassmen-awards/
LOCATION:TWCP Auditorium
CATEGORIES:AST
END:VEVENT
BEGIN:VEVENT
DTSTART;TZID=America/North_Dakota/Center:20200812T072000
DTEND;TZID=America/North_Dakota/Center:20200812T142000
DTSTAMP:20260425T060105
CREATED:20200529T231537Z
LAST-MODIFIED:20200529T231537Z
UID:7033-1597216800-1597242000@cinternat.com
SUMMARY:SCHOOL STARTS! 🚌📚
DESCRIPTION:
URL:https://cinternat.com/event/school-starts/
LOCATION:TWCP
CATEGORIES:AST,TWCP
END:VEVENT
BEGIN:VEVENT
DTSTART;TZID=America/North_Dakota/Center:20200810T180000
DTEND;TZID=America/North_Dakota/Center:20200810T200000
DTSTAMP:20260425T060105
CREATED:20200529T231117Z
LAST-MODIFIED:20200529T231117Z
UID:7032-1597082400-1597089600@cinternat.com
SUMMARY:P.A.S.T. Board Meeting *Virtual*
DESCRIPTION:
URL:https://cinternat.com/event/p-a-s-t-board-meeting-3/
LOCATION:TWCP Library
CATEGORIES:PAST Meetings
END:VEVENT
BEGIN:VEVENT
DTSTART;TZID=America/North_Dakota/Center:20200809T180000
DTEND;TZID=America/North_Dakota/Center:20200809T200000
DTSTAMP:20260425T060105
CREATED:20200605T192520Z
LAST-MODIFIED:20200605T192520Z
UID:7058-1596996000-1597003200@cinternat.com
SUMMARY:Canceled: AST Welcome Back Pool Party
DESCRIPTION:Postponed until spring 2021
URL:https://cinternat.com/event/ast-welcome-back-pool-party/
LOCATION:Creekwood Pavilion and Pool\, 3383 S. Panther Creek Dr.\, The Woodlands\, TX\, 77381\, United States
CATEGORIES:AST
ATTACH;FMTTYPE=image/jpeg:https://cinternat.com/wp-content/uploads/2020/06/ASTPoolParty.jpg
END:VEVENT
BEGIN:VEVENT
DTSTART;TZID=America/North_Dakota/Center:20200807T113000
DTEND;TZID=America/North_Dakota/Center:20200807T123000
DTSTAMP:20260425T060105
CREATED:20200529T230102Z
LAST-MODIFIED:20200529T230102Z
UID:7031-1596799800-1596803400@cinternat.com
SUMMARY:Canceled: AST/PAST Luncheon
DESCRIPTION:Parents not permitted on campus\, but PAST will provide lunch for AST  staff. 
URL:https://cinternat.com/event/ast-past-luncheon/
LOCATION:TWCP Room 3310
CATEGORIES:AST,PAST Activities
END:VEVENT
BEGIN:VEVENT
DTSTART;TZID=America/North_Dakota/Center:20200731T090000
DTEND;TZID=America/North_Dakota/Center:20200731T150000
DTSTAMP:20260425T060105
CREATED:20200529T225025Z
LAST-MODIFIED:20200529T225025Z
UID:7030-1596186000-1596207600@cinternat.com
SUMMARY:Orientation: Freshman/Sophomore*Virtual*
DESCRIPTION:From 7/27 CPHS email: \n\nStudent Orientations\n\nJuly 29\, 2020\n\nStudent Schedules will be released\nParent and Student Access will be available for review of schedule\n\n\nJuly 30\, 2020  9 a.m. – 3 p.m.\n\nJunior and Senior Virtual Orientation\nSchedule issues\n\nNo changes will be made to requested courses and level.\nEmail your counselor to resolve first\, then\nRequest a Zoom to resolve; second\, then\nSchedule an appointment via Sign-up Genius for a face to face meeting\n\n\nJunior ID’s will be taken on the first day of school.\nSeniors will receive a preprinted ID on the first day of school.\n\n\nJuly 31\, 2020  9 a.m. – 3 p.m.\n\nFreshman and Sophomore Virtual Orientation\nSchedule issues\n\nNo changes will be made to requested courses and level.\nEmail your counselor to resolve first\, then\nRequest a Zoom to resolve; second\, then\nSchedule an appointment via Sign-up Genius for a face to face meeting\n\n\nSophomores will receive a preprinted ID on the first day of school.\nFreshman – see below concerning ID’s.\n\n\n\n\n\n\nCamp Cavalier – Building Tours and Information\n\nSeptember 1 and 2  | 9 a.m. – 3 p.m.\nOpen to all freshman and new students\nUse Signup Genius to schedule a tour with a CP Ambassador\nNo more than 10 in a group.\nMasks must be worn.\nOne tour every 15 minutes begins.\nFreshman and new students will have their ID taken during the tour.\nStudents will see the entire school and receive information about College Park (about 1 hr. 15 minutes for the tour)\n\n\n\n\nSchedule Walk/Club and Organization Fair\n\nAugust 3  | 3 p.m. – 6 p.m.\nCome and go during the time.\nOpen to all grades\nOpportunity to collect information from our clubs and organizations and get involved\nOpportunity for students to walk their schedule and become familiar with the building.\n\n\n\n 
URL:https://cinternat.com/event/orientation-freshman-sophomore/
LOCATION:Virtual
CATEGORIES:AST,TWCP
END:VEVENT
BEGIN:VEVENT
DTSTART;TZID=America/North_Dakota/Center:20200730T090000
DTEND;TZID=America/North_Dakota/Center:20200730T150000
DTSTAMP:20260425T060105
CREATED:20200529T224831Z
LAST-MODIFIED:20200529T224831Z
UID:7029-1596099600-1596121200@cinternat.com
SUMMARY:Orientation: Junior/Senior * Virtual*
DESCRIPTION:From 7/27 CPHS email: \n\nStudent Orientations\n\nJuly 29\, 2020\n\nStudent Schedules will be released\nParent and Student Access will be available for review of schedule\n\n\nJuly 30\, 2020  9 a.m. – 3 p.m.\n\nJunior and Senior Virtual Orientation\nSchedule issues\n\nNo changes will be made to requested courses and level.\nEmail your counselor to resolve first\, then\nRequest a Zoom to resolve; second\, then\nSchedule an appointment via Sign-up Genius for a face to face meeting\n\n\nJunior ID’s will be taken on the first day of school.\nSeniors will receive a preprinted ID on the first day of school.\n\n\nJuly 31\, 2020  9 a.m. – 3 p.m.\n\nFreshman and Sophomore Virtual Orientation\nSchedule issues\n\nNo changes will be made to requested courses and level.\nEmail your counselor to resolve first\, then\nRequest a Zoom to resolve; second\, then\nSchedule an appointment via Sign-up Genius for a face to face meeting\n\n\nSophomores will receive a preprinted ID on the first day of school.\nFreshman – see below concerning ID’s.\n\n\n\n\n\n\nCamp Cavalier – Building Tours and Information\n\nSept. 1 and 2  | 9 a.m. – 3 p.m.\nOpen to all freshman and new students\nUse Signup Genius to schedule a tour with a CP Ambassador\nNo more than 10 in a group.\nMasks must be worn.\nOne tour every 15 minutes begins.\nFreshman and new students will have their ID taken during the tour.\nStudents will see the entire school and receive information about College Park (about 1 hr. 15 minutes for the tour)\n\n\n\n\nSchedule Walk/Club and Organization Fair\n\nAugust 3  | 3 p.m. – 6 p.m.\nCome and go during the time.\nOpen to all grades\nOpportunity to collect information from our clubs and organizations and get involved\nOpportunity for students to walk their schedule and become familiar with the building.
URL:https://cinternat.com/event/orientation-junior-senior/
LOCATION:Virtual
CATEGORIES:AST,TWCP
END:VEVENT
BEGIN:VEVENT
DTSTART;TZID=America/North_Dakota/Center:20200713T180000
DTEND;TZID=America/North_Dakota/Center:20200713T200000
DTSTAMP:20260425T060105
CREATED:20200529T224524Z
LAST-MODIFIED:20200529T224524Z
UID:7028-1594663200-1594670400@cinternat.com
SUMMARY:P.A.S.T. Board Meeting
DESCRIPTION:
URL:https://cinternat.com/event/p-a-s-t-board-meeting-2/
LOCATION:TWCP Library
CATEGORIES:PAST Meetings
END:VEVENT
BEGIN:VEVENT
DTSTART;TZID=America/North_Dakota/Center:20200608T180000
DTEND;TZID=America/North_Dakota/Center:20200608T200000
DTSTAMP:20260425T060105
CREATED:20200529T224340Z
LAST-MODIFIED:20200529T224340Z
UID:7027-1591639200-1591646400@cinternat.com
SUMMARY:P.A.S.T. Board Meeting
DESCRIPTION:
URL:https://cinternat.com/event/p-a-s-t-board-meeting/
LOCATION:TWCP Library
CATEGORIES:PAST Meetings
END:VEVENT
BEGIN:VEVENT
DTSTART;TZID=America/North_Dakota/Center:20200605T080000
DTEND;TZID=America/North_Dakota/Center:20200605T200000
DTSTAMP:20260425T060105
CREATED:20200529T223958Z
LAST-MODIFIED:20200529T223958Z
UID:7026-1591344000-1591387200@cinternat.com
SUMMARY:CPHS Graduation
DESCRIPTION:Graduation Tickets will be distributed June 1st. \nStudents with last names A-K will be at 8:00 a.m.\nStudents with last names L-Z will be at 8:00 p.m. \n\nSenior Letter Information\nhttps://twcp.conroeisd.net/…/05/Graduation-letter-2020-1.pdf \nGraduation Central (Live Stream Information)\nhttps://www.conroeisd.net/about/graduation-central/
URL:https://cinternat.com/event/cphs-graduation-2020/
LOCATION:Woodforest Stadium
CATEGORIES:AST,TWCP
ATTACH;FMTTYPE=image/jpeg:https://cinternat.com/wp-content/uploads/2020/05/2020_CP_Graduation.jpg
END:VEVENT
BEGIN:VEVENT
DTSTART;TZID=America/North_Dakota/Center:20191029T180000
DTEND;TZID=America/North_Dakota/Center:20191029T190000
DTSTAMP:20260425T060105
CREATED:20190812T190054Z
LAST-MODIFIED:20190812T190054Z
UID:7025-1572372000-1572375600@cinternat.com
SUMMARY:Distinguished Lecture Series
DESCRIPTION:
URL:https://cinternat.com/event/distinguished-lecture-series-20/
END:VEVENT
BEGIN:VEVENT
DTSTART;TZID=America/North_Dakota/Center:20191026T070000
DTEND;TZID=America/North_Dakota/Center:20191026T220000
DTSTAMP:20260425T060105
CREATED:20190812T185950Z
LAST-MODIFIED:20190812T185950Z
UID:7024-1572073200-1572127200@cinternat.com
SUMMARY:FIRST Remix
DESCRIPTION:
URL:https://cinternat.com/event/first-remix-2/
LOCATION:Gym 1500
END:VEVENT
BEGIN:VEVENT
DTSTART;TZID=America/North_Dakota/Center:20191025T150000
DTEND;TZID=America/North_Dakota/Center:20191025T220000
DTSTAMP:20260425T060105
CREATED:20190812T185845Z
LAST-MODIFIED:20190812T185845Z
UID:7023-1572015600-1572040800@cinternat.com
SUMMARY:FIRST Remix
DESCRIPTION:
URL:https://cinternat.com/event/first-remix/
LOCATION:Gym 1500
END:VEVENT
END:VCALENDAR