BEGIN:VCALENDAR
VERSION:2.0
PRODID:-//P. A. S. T. - ECPv6.15.20//NONSGML v1.0//EN
CALSCALE:GREGORIAN
METHOD:PUBLISH
X-WR-CALNAME:P. A. S. T.
X-ORIGINAL-URL:https://cinternat.com
X-WR-CALDESC:Events for P. A. S. T.
REFRESH-INTERVAL;VALUE=DURATION:PT1H
X-Robots-Tag:noindex
X-PUBLISHED-TTL:PT1H
BEGIN:VTIMEZONE
TZID:America/North_Dakota/Center
BEGIN:DAYLIGHT
TZOFFSETFROM:-0600
TZOFFSETTO:-0500
TZNAME:CDT
DTSTART:20180311T080000
END:DAYLIGHT
BEGIN:STANDARD
TZOFFSETFROM:-0500
TZOFFSETTO:-0600
TZNAME:CST
DTSTART:20181104T070000
END:STANDARD
BEGIN:DAYLIGHT
TZOFFSETFROM:-0600
TZOFFSETTO:-0500
TZNAME:CDT
DTSTART:20190310T080000
END:DAYLIGHT
BEGIN:STANDARD
TZOFFSETFROM:-0500
TZOFFSETTO:-0600
TZNAME:CST
DTSTART:20191103T070000
END:STANDARD
BEGIN:DAYLIGHT
TZOFFSETFROM:-0600
TZOFFSETTO:-0500
TZNAME:CDT
DTSTART:20200308T080000
END:DAYLIGHT
BEGIN:STANDARD
TZOFFSETFROM:-0500
TZOFFSETTO:-0600
TZNAME:CST
DTSTART:20201101T070000
END:STANDARD
BEGIN:DAYLIGHT
TZOFFSETFROM:-0600
TZOFFSETTO:-0500
TZNAME:CDT
DTSTART:20210314T080000
END:DAYLIGHT
BEGIN:STANDARD
TZOFFSETFROM:-0500
TZOFFSETTO:-0600
TZNAME:CST
DTSTART:20211107T070000
END:STANDARD
BEGIN:DAYLIGHT
TZOFFSETFROM:-0600
TZOFFSETTO:-0500
TZNAME:CDT
DTSTART:20220313T080000
END:DAYLIGHT
BEGIN:STANDARD
TZOFFSETFROM:-0500
TZOFFSETTO:-0600
TZNAME:CST
DTSTART:20221106T070000
END:STANDARD
BEGIN:DAYLIGHT
TZOFFSETFROM:-0600
TZOFFSETTO:-0500
TZNAME:CDT
DTSTART:20230312T080000
END:DAYLIGHT
BEGIN:STANDARD
TZOFFSETFROM:-0500
TZOFFSETTO:-0600
TZNAME:CST
DTSTART:20231105T070000
END:STANDARD
BEGIN:DAYLIGHT
TZOFFSETFROM:-0600
TZOFFSETTO:-0500
TZNAME:CDT
DTSTART:20240310T080000
END:DAYLIGHT
BEGIN:STANDARD
TZOFFSETFROM:-0500
TZOFFSETTO:-0600
TZNAME:CST
DTSTART:20241103T070000
END:STANDARD
END:VTIMEZONE
BEGIN:VTIMEZONE
TZID:America/Chicago
BEGIN:DAYLIGHT
TZOFFSETFROM:-0600
TZOFFSETTO:-0500
TZNAME:CDT
DTSTART:20210314T080000
END:DAYLIGHT
BEGIN:STANDARD
TZOFFSETFROM:-0500
TZOFFSETTO:-0600
TZNAME:CST
DTSTART:20211107T070000
END:STANDARD
BEGIN:DAYLIGHT
TZOFFSETFROM:-0600
TZOFFSETTO:-0500
TZNAME:CDT
DTSTART:20220313T080000
END:DAYLIGHT
BEGIN:STANDARD
TZOFFSETFROM:-0500
TZOFFSETTO:-0600
TZNAME:CST
DTSTART:20221106T070000
END:STANDARD
BEGIN:DAYLIGHT
TZOFFSETFROM:-0600
TZOFFSETTO:-0500
TZNAME:CDT
DTSTART:20230312T080000
END:DAYLIGHT
BEGIN:STANDARD
TZOFFSETFROM:-0500
TZOFFSETTO:-0600
TZNAME:CST
DTSTART:20231105T070000
END:STANDARD
END:VTIMEZONE
BEGIN:VEVENT
DTSTART;TZID=America/North_Dakota/Center:20230511T180000
DTEND;TZID=America/North_Dakota/Center:20230511T190000
DTSTAMP:20260425T072848
CREATED:20230123T044848Z
LAST-MODIFIED:20230123T044848Z
UID:7197-1683828000-1683831600@cinternat.com
SUMMARY:AST New Parent Dessert Reception
DESCRIPTION:
URL:https://cinternat.com/event/ast-new-parent-dessert-reception/
LOCATION:TWCP Commons
CATEGORIES:AST,PAST Activities,PAST Meetings
END:VEVENT
BEGIN:VEVENT
DTSTART;TZID=America/North_Dakota/Center:20230507T150000
DTEND;TZID=America/North_Dakota/Center:20230507T190000
DTSTAMP:20260425T072848
CREATED:20230123T044346Z
LAST-MODIFIED:20230123T044346Z
UID:7193-1683471600-1683486000@cinternat.com
SUMMARY:AST Senior Gala
DESCRIPTION:
URL:https://cinternat.com/event/ast-senior-gala/
LOCATION:The Woodlands Waterway Marriott Hotel\, 1601 Lake Robbins Dr\, The Woodlands\, TX\, 77380\, United States
CATEGORIES:AST,Class Activities,PAST Activities
ATTACH;FMTTYPE=:
END:VEVENT
BEGIN:VEVENT
DTSTART;TZID=America/North_Dakota/Center:20230405T180000
DTEND;TZID=America/North_Dakota/Center:20230405T190000
DTSTAMP:20260425T072848
CREATED:20230123T041655Z
LAST-MODIFIED:20230123T041655Z
UID:7185-1680717600-1680721200@cinternat.com
SUMMARY:Distinguished Lecture Series
DESCRIPTION:
URL:https://cinternat.com/event/distinguished-lecture-series-41/
CATEGORIES:Lectures,PAST Activities
ATTACH;FMTTYPE=:
END:VEVENT
BEGIN:VEVENT
DTSTART;TZID=America/North_Dakota/Center:20230320T180000
DTEND;TZID=America/North_Dakota/Center:20230320T190000
DTSTAMP:20260425T072848
CREATED:20230320T220714Z
LAST-MODIFIED:20230320T220714Z
UID:7204-1679335200-1679338800@cinternat.com
SUMMARY:PAST Board Meeting
DESCRIPTION:
URL:https://cinternat.com/event/past-board-meeting-9/
LOCATION:TWCP Library
CATEGORIES:PAST Activities,PAST Meetings
END:VEVENT
BEGIN:VEVENT
DTSTART;TZID=America/North_Dakota/Center:20230307T180000
DTEND;TZID=America/North_Dakota/Center:20230307T190000
DTSTAMP:20260425T072848
CREATED:20230123T035853Z
LAST-MODIFIED:20230123T035853Z
UID:7182-1678212000-1678215600@cinternat.com
SUMMARY:Distinguished Lecture Series
DESCRIPTION:
URL:https://cinternat.com/event/distinguished-lecture-series-40/
CATEGORIES:Lectures,PAST Activities
ATTACH;FMTTYPE=:
END:VEVENT
BEGIN:VEVENT
DTSTART;TZID=America/North_Dakota/Center:20230228T180000
DTEND;TZID=America/North_Dakota/Center:20230228T190000
DTSTAMP:20260425T072848
CREATED:20230123T035732Z
LAST-MODIFIED:20230123T035732Z
UID:7181-1677607200-1677610800@cinternat.com
SUMMARY:Distinguished Lecture Series
DESCRIPTION:
URL:https://cinternat.com/event/distinguished-lecture-series-39/
CATEGORIES:Lectures,PAST Activities
ATTACH;FMTTYPE=:
END:VEVENT
BEGIN:VEVENT
DTSTART;TZID=America/North_Dakota/Center:20230213T180000
DTEND;TZID=America/North_Dakota/Center:20230213T200000
DTSTAMP:20260425T072848
CREATED:20230123T032730Z
LAST-MODIFIED:20230123T032730Z
UID:7178-1676311200-1676318400@cinternat.com
SUMMARY:PAST Board Meeting
DESCRIPTION:
URL:https://cinternat.com/event/past-board-meeting-8/
LOCATION:TWCP Library
CATEGORIES:PAST Activities,PAST Meetings
END:VEVENT
BEGIN:VEVENT
DTSTART;TZID=America/North_Dakota/Center:20221029T190000
DTEND;TZID=America/North_Dakota/Center:20221029T220000
DTSTAMP:20260425T072848
CREATED:20221114T231054Z
LAST-MODIFIED:20221114T231054Z
UID:7172-1667070000-1667080800@cinternat.com
SUMMARY:PAST Halloween Party
DESCRIPTION:Freshman Class representatives Olga Morozov\, Carmela Popovici\, and Jennifer Rice are inviting all Academy students to a Halloween Party on Saturday\, October 29 from 7pm – 10pm at the home of Madelyn Rice (2 Dovecote\,  The Woodlands\, TX 77382). Students who want to attend need to Venmo Mrs. Rice with $20  (@Jennifer-Rice-107) by October 20th.
URL:https://cinternat.com/event/past-halloween-party/
LOCATION:TBD
CATEGORIES:Class Activities,PAST Activities
END:VEVENT
BEGIN:VEVENT
DTSTART;TZID=America/North_Dakota/Center:20220912T173000
DTEND;TZID=America/North_Dakota/Center:20220912T183000
DTSTAMP:20260425T072848
CREATED:20220803T030326Z
LAST-MODIFIED:20220803T030326Z
UID:7157-1663003800-1663007400@cinternat.com
SUMMARY:P.A.S.T. Board Meeting
DESCRIPTION:
URL:https://cinternat.com/event/p-a-s-t-board-meeting-11/
LOCATION:TWCP Library
CATEGORIES:PAST Activities
END:VEVENT
BEGIN:VEVENT
DTSTART;TZID=America/North_Dakota/Center:20220805T113000
DTEND;TZID=America/North_Dakota/Center:20220805T123000
DTSTAMP:20260425T072848
CREATED:20220723T050528Z
LAST-MODIFIED:20220723T050528Z
UID:7146-1659699000-1659702600@cinternat.com
SUMMARY:AST/P.A.S.T. Board Luncheon
DESCRIPTION:
URL:https://cinternat.com/event/ast-p-a-s-t-board-luncheon/
LOCATION:TWCP Room 3310
CATEGORIES:PAST Activities
END:VEVENT
BEGIN:VEVENT
DTSTART;TZID=America/North_Dakota/Center:20220513T063000
DTEND;TZID=America/North_Dakota/Center:20220513T071500
DTSTAMP:20260425T072848
CREATED:20220222T040105Z
LAST-MODIFIED:20220222T040105Z
UID:7140-1652423400-1652426100@cinternat.com
SUMMARY:AST Donut Day 🍩🍩
DESCRIPTION:
URL:https://cinternat.com/event/ast-donut-day-%f0%9f%8d%a9%f0%9f%8d%a9-4/
LOCATION:TWCP LGI 1
CATEGORIES:AST,PAST Activities
END:VEVENT
BEGIN:VEVENT
DTSTART;TZID=America/North_Dakota/Center:20220509T180000
DTEND;TZID=America/North_Dakota/Center:20220509T200000
DTSTAMP:20260425T072848
CREATED:20220222T040937Z
LAST-MODIFIED:20220222T040937Z
UID:7143-1652119200-1652126400@cinternat.com
SUMMARY:P.A.S.T. Dessert Reception
DESCRIPTION:
URL:https://cinternat.com/event/p-a-s-t-dessert-reception/
LOCATION:TWCP Commons
CATEGORIES:AST,PAST Activities
END:VEVENT
BEGIN:VEVENT
DTSTART;TZID=America/North_Dakota/Center:20220506T063000
DTEND;TZID=America/North_Dakota/Center:20220506T071500
DTSTAMP:20260425T072848
CREATED:20220222T035957Z
LAST-MODIFIED:20220222T035957Z
UID:7139-1651818600-1651821300@cinternat.com
SUMMARY:AST Donut Day 🍩🍩
DESCRIPTION:
URL:https://cinternat.com/event/ast-donut-day-%f0%9f%8d%a9%f0%9f%8d%a9-3/
LOCATION:TWCP LGI 1
CATEGORIES:AST,PAST Activities
END:VEVENT
BEGIN:VEVENT
DTSTART;TZID=America/Chicago:20220501T150000
DTEND;TZID=America/Chicago:20220501T180000
DTSTAMP:20260425T072848
CREATED:20220111T004816Z
LAST-MODIFIED:20220111T004816Z
UID:7130-1651417200-1651428000@cinternat.com
SUMMARY:Class of 2022 Senior Gala
DESCRIPTION:SAVE THE DATE: MAY 1\, 2022\nThe Roaring 20’s: The Great Gatsby
URL:https://cinternat.com/event/class-of-2022-senior-gala/
LOCATION:The Woodlands Waterway Marriott Hotel\, 1601 Lake Robbins Dr\, The Woodlands\, TX\, 77380\, United States
CATEGORIES:AST,Class Activities,PAST Activities
ATTACH;FMTTYPE=:
END:VEVENT
BEGIN:VEVENT
DTSTART;TZID=America/North_Dakota/Center:20220419T180000
DTEND;TZID=America/North_Dakota/Center:20220419T190000
DTSTAMP:20260425T072848
CREATED:20220111T003412Z
LAST-MODIFIED:20220111T003412Z
UID:7129-1650391200-1650394800@cinternat.com
SUMMARY:Distinguished Lecture Series
DESCRIPTION:Details: TBD
URL:https://cinternat.com/event/distinguished-lecture-series-33/
CATEGORIES:Lectures,PAST Activities
END:VEVENT
BEGIN:VEVENT
DTSTART;TZID=America/North_Dakota/Center:20220412T180000
DTEND;TZID=America/North_Dakota/Center:20220412T210000
DTSTAMP:20260425T072848
CREATED:20220321T232535Z
LAST-MODIFIED:20220321T232535Z
UID:7144-1649786400-1649797200@cinternat.com
SUMMARY:AST Trivia Night 2022
DESCRIPTION:Parents of the Academy of Science and Technology are excited to bring you the opportunity to play Academy Trivia. \nDetails TBD
URL:https://cinternat.com/event/ast-trivia-night-2022/
LOCATION:Commons
CATEGORIES:AST,PAST Activities
ATTACH;FMTTYPE=:
END:VEVENT
BEGIN:VEVENT
DTSTART;TZID=America/North_Dakota/Center:20210808T180000
DTEND;TZID=America/North_Dakota/Center:20210808T200000
DTSTAMP:20260425T072848
CREATED:20210728T012154Z
LAST-MODIFIED:20210728T012154Z
UID:7121-1628445600-1628452800@cinternat.com
SUMMARY:AST Pool Party
DESCRIPTION:What:   AST Pool Party\nWhen:  Sunday\, August 8 | 6:00 – 8:00 p.m.\nWhere:  Creekwood Park  (across from McCullough JHS)\nBring: A towel. Please also bring an individually\, pre-packaged snack (chips\, cookies\, candy – no chocolate) and/or drinks to share. \nP.A.S.T. will provide bottled water.
URL:https://cinternat.com/event/ast-pool-party-2/
LOCATION:Creekwood Pavilion and Pool\, 3383 S. Panther Creek Dr.\, The Woodlands\, TX\, 77381\, United States
CATEGORIES:AST,Class Activities,PAST Activities
ATTACH;FMTTYPE=image/jpeg:https://cinternat.com/wp-content/uploads/2021/07/AST_PoolParty_2021.jpg
END:VEVENT
BEGIN:VEVENT
DTSTART;TZID=America/North_Dakota/Center:20210808T180000
DTEND;TZID=America/North_Dakota/Center:20210808T200000
DTSTAMP:20260425T072848
CREATED:20210615T040534Z
LAST-MODIFIED:20210615T040534Z
UID:7104-1628445600-1628452800@cinternat.com
SUMMARY:AST Pool Party
DESCRIPTION:
URL:https://cinternat.com/event/ast-pool-party/
LOCATION:Creekwood Pavilion and Pool\, 3383 S. Panther Creek Dr.\, The Woodlands\, TX\, 77381\, United States
CATEGORIES:AST,PAST Activities
ATTACH;FMTTYPE=image/jpeg:https://cinternat.com/wp-content/uploads/2020/06/ASTPoolParty.jpg
END:VEVENT
BEGIN:VEVENT
DTSTART;TZID=America/North_Dakota/Center:20210806T113000
DTEND;TZID=America/North_Dakota/Center:20210806T123000
DTSTAMP:20260425T072848
CREATED:20210616T022712Z
LAST-MODIFIED:20210616T022712Z
UID:7105-1628249400-1628253000@cinternat.com
SUMMARY:AST/PAST Luncheon
DESCRIPTION:
URL:https://cinternat.com/event/ast-past-luncheon-2/
LOCATION:TWCP Room 3310
CATEGORIES:PAST Activities
END:VEVENT
BEGIN:VEVENT
DTSTART;TZID=America/North_Dakota/Center:20210503T180000
DTEND;TZID=America/North_Dakota/Center:20210503T193000
DTSTAMP:20260425T072848
CREATED:20210504T203936Z
LAST-MODIFIED:20210504T203936Z
UID:7086-1620064800-1620070200@cinternat.com
SUMMARY:Incoming Freshman Parent Dessert Reception
DESCRIPTION:Parents of incoming freshmen [Class of 2025] are invited to join us for an evening to meet other AST families\, learn more about AST activities\, and hear form other parents.
URL:https://cinternat.com/event/incoming-freshman-parent-dessert-reception/
CATEGORIES:PAST Activities
END:VEVENT
BEGIN:VEVENT
DTSTART;TZID=America/North_Dakota/Center:20210416T180000
DTEND;TZID=America/North_Dakota/Center:20210416T200000
DTSTAMP:20260425T072848
CREATED:20210507T034033Z
LAST-MODIFIED:20210507T034033Z
UID:7088-1618596000-1618603200@cinternat.com
SUMMARY:AST Trivia Night 2021
DESCRIPTION:Parents of the Academy of Science and Technology are excited to bring you the opportunity to play Academy Trivia\, virtually of course\, via Zoom. \nThe date is Friday\, April 16\, 2021 from 6-8 pm.   The cost is $5 per person and can be paid in School Cash Online \nAll ages can play so include your family members. Teams can be formed up to 10 people. \nREGISTER YOUR TEAM \nYou need a Team name!  You might all dress in a theme!! \nThere will be prizes for winners. The winning team will have their name added to the Trivia Trophy in the Academy office! \nIf you do not have a team\, you may register individually and asked to be placed on a team! \nDEADLINE TO REGISTER IS APRIL 14\, 2021!
URL:https://cinternat.com/event/ast-trivia-night-2021/
LOCATION:Virtual
CATEGORIES:PAST Activities
ATTACH;FMTTYPE=image/jpeg:https://cinternat.com/wp-content/uploads/2021/05/AST_trivia-night-2021.jpeg
END:VEVENT
BEGIN:VEVENT
DTSTART;TZID=America/North_Dakota/Center:20210108T090000
DTEND;TZID=America/North_Dakota/Center:20210108T103000
DTSTAMP:20260425T072848
CREATED:20210112T151815Z
LAST-MODIFIED:20210112T151815Z
UID:7082-1610096400-1610101800@cinternat.com
SUMMARY:Coffee with the Headmaster ☕️ *Virtual*
DESCRIPTION:Join Zoom Meeting \nhttps://conroeisd.zoom.us/j/87027941198?pwd=R3NpeEk0NVpJVzc3c1ZsL2RGQnZsZz09 \nMeeting ID: 870 2794 1198\nPasscode: 503932
URL:https://cinternat.com/event/coffee-with-the-headmaster-%e2%98%95%ef%b8%8f-virtual/
LOCATION:Online
CATEGORIES:AST,PAST Activities
END:VEVENT
BEGIN:VEVENT
DTSTART;TZID=America/North_Dakota/Center:20200912T080000
DTEND;TZID=America/North_Dakota/Center:20200912T100000
DTSTAMP:20260425T072848
CREATED:20200529T235004Z
LAST-MODIFIED:20200529T235004Z
UID:7039-1599897600-1599904800@cinternat.com
SUMMARY:AST Picnic
DESCRIPTION:Please enter from Honor Roll Drive \n\nTwo options to pick up your AST merchandise\, AST directory\, AST planners\, students’ explorations journals\, membership incentives and last but not least\, get a taste of a true AST Donut Day. \nOption 1: Park and Pick up\nPark in one of the Visitor Parking Lots and visit our P.A.S.T. volunteers at the three pick-up tents in front of the school.\nWe will adhere to the social distancing rules and all our volunteers will wear face coverings. We ask that you do too. \nOption 2:  Curbside pick up\nPlease park and text to 936.718.1940 with your last name\, what class is your student in and what car you are in and let us know what you are picking up.  A friendly P.A.S.T. volunteer will deliver your items directly to your car. \n\nFor those who choose the first option\, we will have the following stations set up: \nStation/Tent 1: AST Merchandise \n\nPlease note that this is for pick up of pre- ordered merchandise only. We won’t be selling any merchandise. If you would like to order\, we will be opening our online store later on this month.\n\nStation/Tent 2: AST Directory/Membership incentives \n\nPick up Directories\, membership incentives\, AST planners\, students’ explorations journals\nStation/Tent 3: P.A.S.T. Hospitality\nPick up your fresh donut holes and a drink.\n\n  \nDue to the current restrictions we will not be taking any membership payments. If you have not yet joined  we ask that you please join P.A.S.T. \nWe encourage you to view our video messages we have prepared for you in lieu of an in person presentation.\nWatch 2020-2021 Welcome Reception.
URL:https://cinternat.com/event/ast-picnic-3/
LOCATION:Commons
CATEGORIES:AST,PAST Activities
ATTACH;FMTTYPE=image/png:https://cinternat.com/wp-content/uploads/2020/05/TWCP_building.png
END:VEVENT
BEGIN:VEVENT
DTSTART;TZID=America/North_Dakota/Center:20200904T090000
DTEND;TZID=America/North_Dakota/Center:20200904T103000
DTSTAMP:20260425T072848
CREATED:20200529T234028Z
LAST-MODIFIED:20200529T234028Z
UID:7037-1599210000-1599215400@cinternat.com
SUMMARY:Coffee with the Headmaster ☕️ *Virtual*
DESCRIPTION:Dr. Caffery created a Module in the Academy General Canvas course titled Coffee with the Headmaster. \n\nDownload Dr. Caffery’s presentation HERE\n\n\nDr. Caffery will open a Zoom meeting for Questions and Answers on Friday\, Sept. 4 at 9:00 a.m. 
URL:https://cinternat.com/event/coffee-with-the-headmaster-%e2%98%95%ef%b8%8f/
LOCATION:Virtual
CATEGORIES:AST,PAST Activities
ATTACH;FMTTYPE=image/png:https://cinternat.com/wp-content/uploads/2020/05/AST_20200828_CofeeHeadmaster.png
END:VEVENT
BEGIN:VEVENT
DTSTART;TZID=America/North_Dakota/Center:20200807T113000
DTEND;TZID=America/North_Dakota/Center:20200807T123000
DTSTAMP:20260425T072848
CREATED:20200529T230102Z
LAST-MODIFIED:20200529T230102Z
UID:7031-1596799800-1596803400@cinternat.com
SUMMARY:Canceled: AST/PAST Luncheon
DESCRIPTION:Parents not permitted on campus\, but PAST will provide lunch for AST  staff. 
URL:https://cinternat.com/event/ast-past-luncheon/
LOCATION:TWCP Room 3310
CATEGORIES:AST,PAST Activities
END:VEVENT
BEGIN:VEVENT
DTSTART;TZID=America/North_Dakota/Center:20190409T180000
DTEND;TZID=America/North_Dakota/Center:20190409T190000
DTSTAMP:20260425T072848
CREATED:20190113T001000Z
LAST-MODIFIED:20190113T001000Z
UID:7002-1554832800-1554836400@cinternat.com
SUMMARY:Distinguished Lecture Series
DESCRIPTION:
URL:https://cinternat.com/event/distinguished-lecture-series-17/
LOCATION:TWCP LGI 1
CATEGORIES:AST,Lectures,PAST Activities
END:VEVENT
BEGIN:VEVENT
DTSTART;TZID=America/North_Dakota/Center:20190308T063000
DTEND;TZID=America/North_Dakota/Center:20190308T073000
DTSTAMP:20260425T072848
CREATED:20190113T000047Z
LAST-MODIFIED:20190113T000047Z
UID:6998-1552026600-1552030200@cinternat.com
SUMMARY:AST Donut Day
DESCRIPTION:
URL:https://cinternat.com/event/ast-donut-day-2/
CATEGORIES:AST,PAST Activities
END:VEVENT
BEGIN:VEVENT
DTSTART;TZID=America/North_Dakota/Center:20190306T163000
DTEND;TZID=America/North_Dakota/Center:20190306T200000
DTSTAMP:20260425T072848
CREATED:20190113T001941Z
LAST-MODIFIED:20190113T001941Z
UID:7006-1551889800-1551902400@cinternat.com
SUMMARY:PAST General Meeting; Freshman Parent Dessert Reception
DESCRIPTION:
URL:https://cinternat.com/event/past-general-meeting-freshman-parent-dessert-reception/
LOCATION:TWCP Commons
CATEGORIES:AST,PAST Activities,PAST Meetings,TWCP
END:VEVENT
BEGIN:VEVENT
DTSTART;TZID=America/North_Dakota/Center:20190305T180000
DTEND;TZID=America/North_Dakota/Center:20190305T190000
DTSTAMP:20260425T072848
CREATED:20190112T235841Z
LAST-MODIFIED:20190112T235841Z
UID:6997-1551808800-1551812400@cinternat.com
SUMMARY:Distinguished Lecture Series
DESCRIPTION:
URL:https://cinternat.com/event/distinguished-lecture-series-15/
LOCATION:TWCP LGI 1
CATEGORIES:AST,Lectures,PAST Activities
END:VEVENT
BEGIN:VEVENT
DTSTART;TZID=America/North_Dakota/Center:20190226T180000
DTEND;TZID=America/North_Dakota/Center:20190226T190000
DTSTAMP:20260425T072848
CREATED:20190112T235302Z
LAST-MODIFIED:20190112T235302Z
UID:6996-1551204000-1551207600@cinternat.com
SUMMARY:Distinguished Lecture Series
DESCRIPTION:
URL:https://cinternat.com/event/distinguished-lecture-series-14/
LOCATION:TWCP LGI 1
CATEGORIES:AST,Lectures,PAST Activities
END:VEVENT
END:VCALENDAR