BEGIN:VCALENDAR
VERSION:2.0
PRODID:-//P. A. S. T. - ECPv6.15.20//NONSGML v1.0//EN
CALSCALE:GREGORIAN
METHOD:PUBLISH
X-WR-CALNAME:P. A. S. T.
X-ORIGINAL-URL:https://cinternat.com
X-WR-CALDESC:Events for P. A. S. T.
REFRESH-INTERVAL;VALUE=DURATION:PT1H
X-Robots-Tag:noindex
X-PUBLISHED-TTL:PT1H
BEGIN:VTIMEZONE
TZID:America/North_Dakota/Center
BEGIN:DAYLIGHT
TZOFFSETFROM:-0600
TZOFFSETTO:-0500
TZNAME:CDT
DTSTART:20200308T080000
END:DAYLIGHT
BEGIN:STANDARD
TZOFFSETFROM:-0500
TZOFFSETTO:-0600
TZNAME:CST
DTSTART:20201101T070000
END:STANDARD
BEGIN:DAYLIGHT
TZOFFSETFROM:-0600
TZOFFSETTO:-0500
TZNAME:CDT
DTSTART:20210314T080000
END:DAYLIGHT
BEGIN:STANDARD
TZOFFSETFROM:-0500
TZOFFSETTO:-0600
TZNAME:CST
DTSTART:20211107T070000
END:STANDARD
BEGIN:DAYLIGHT
TZOFFSETFROM:-0600
TZOFFSETTO:-0500
TZNAME:CDT
DTSTART:20220313T080000
END:DAYLIGHT
BEGIN:STANDARD
TZOFFSETFROM:-0500
TZOFFSETTO:-0600
TZNAME:CST
DTSTART:20221106T070000
END:STANDARD
BEGIN:DAYLIGHT
TZOFFSETFROM:-0600
TZOFFSETTO:-0500
TZNAME:CDT
DTSTART:20230312T080000
END:DAYLIGHT
BEGIN:STANDARD
TZOFFSETFROM:-0500
TZOFFSETTO:-0600
TZNAME:CST
DTSTART:20231105T070000
END:STANDARD
BEGIN:DAYLIGHT
TZOFFSETFROM:-0600
TZOFFSETTO:-0500
TZNAME:CDT
DTSTART:20240310T080000
END:DAYLIGHT
BEGIN:STANDARD
TZOFFSETFROM:-0500
TZOFFSETTO:-0600
TZNAME:CST
DTSTART:20241103T070000
END:STANDARD
END:VTIMEZONE
BEGIN:VEVENT
DTSTART;TZID=America/North_Dakota/Center:20230412T180000
DTEND;TZID=America/North_Dakota/Center:20230412T210000
DTSTAMP:20260425T072826
CREATED:20230123T042654Z
LAST-MODIFIED:20230123T042654Z
UID:7188-1681322400-1681333200@cinternat.com
SUMMARY:AST Trivia Night
DESCRIPTION:This is a fun filled evening for students\, parents and teachers! Table teams of 10 will compete in several rounds of brain-working trivia questions ranging all sorts of topics appealing to both stucents and parents alike. Members of the winning team will earn a prize and\, of course\, bragging rights! Come help us make it memorable. \nCREATE A TEAM \nPARENT VOLUNTEERS NEEDED!
URL:https://cinternat.com/event/ast-trivia-night/
LOCATION:TWCP Commons
CATEGORIES:AST,Competitions
ATTACH;FMTTYPE=:
END:VEVENT
BEGIN:VEVENT
DTSTART;VALUE=DATE:20230324
DTEND;VALUE=DATE:20230326
DTSTAMP:20260425T072826
CREATED:20230123T040700Z
LAST-MODIFIED:20230123T040700Z
UID:7184-1679616000-1679788799@cinternat.com
SUMMARY:TX SEF
DESCRIPTION:
URL:https://cinternat.com/event/tx-sef-2023/
LOCATION:Home
CATEGORIES:Competitions
ATTACH;FMTTYPE=:
END:VEVENT
BEGIN:VEVENT
DTSTART;TZID=America/North_Dakota/Center:20230122T080000
DTEND;TZID=America/North_Dakota/Center:20230122T170000
DTSTAMP:20260425T072826
CREATED:20230123T030732Z
LAST-MODIFIED:20230123T030732Z
UID:7176-1674374400-1674406800@cinternat.com
SUMMARY:SCI://TECH Science Fair
DESCRIPTION:
URL:https://cinternat.com/event/sci-tech-science-fair/
LOCATION:Lone Star Convension Center
CATEGORIES:Competitions
ATTACH;FMTTYPE=:
END:VEVENT
BEGIN:VEVENT
DTSTART;TZID=America/North_Dakota/Center:20210311T080000
DTEND;TZID=America/North_Dakota/Center:20210311T200000
DTSTAMP:20260425T072826
CREATED:20210112T005717Z
LAST-MODIFIED:20210112T005717Z
UID:7076-1615449600-1615492800@cinternat.com
SUMMARY:Robotics District Competition
DESCRIPTION:
URL:https://cinternat.com/event/robotics-district-competition/
LOCATION:TWCP
CATEGORIES:Competitions
END:VEVENT
BEGIN:VEVENT
DTSTART;TZID=America/North_Dakota/Center:20210209T180000
DTEND;TZID=America/North_Dakota/Center:20210209T190000
DTSTAMP:20260425T072826
CREATED:20210209T153557Z
LAST-MODIFIED:20210209T153557Z
UID:7083-1612893600-1612897200@cinternat.com
SUMMARY:SCI://TECH Science Fair Grand Award Ceremony
DESCRIPTION:Please join us for the SCI://TECH Science Fair Grand Award Ceremony. \nThe 1st place winners’ names will be called and the Grand Award winners’ names. \nThe link for the release of tonight’s award ceremony at 6:00 p.m. follows: \nhttps://youtu.be/mZC0EN2Tero \nThe link may also be found on the Education for Tomorrow Alliance’s YouTube channel.
URL:https://cinternat.com/event/sci-tech-science-fair-grand-award-ceremony/
LOCATION:Virtual
CATEGORIES:AST,Competitions
ATTACH;FMTTYPE=image/jpeg:https://cinternat.com/wp-content/uploads/2021/02/2021_efta.jpg
END:VEVENT
END:VCALENDAR