BEGIN:VCALENDAR
VERSION:2.0
PRODID:-//P. A. S. T. - ECPv6.15.20//NONSGML v1.0//EN
CALSCALE:GREGORIAN
METHOD:PUBLISH
X-ORIGINAL-URL:https://cinternat.com
X-WR-CALDESC:Events for P. A. S. T.
REFRESH-INTERVAL;VALUE=DURATION:PT1H
X-Robots-Tag:noindex
X-PUBLISHED-TTL:PT1H
BEGIN:VTIMEZONE
TZID:America/North_Dakota/Center
BEGIN:DAYLIGHT
TZOFFSETFROM:-0600
TZOFFSETTO:-0500
TZNAME:CDT
DTSTART:20190310T080000
END:DAYLIGHT
BEGIN:STANDARD
TZOFFSETFROM:-0500
TZOFFSETTO:-0600
TZNAME:CST
DTSTART:20191103T070000
END:STANDARD
BEGIN:DAYLIGHT
TZOFFSETFROM:-0600
TZOFFSETTO:-0500
TZNAME:CDT
DTSTART:20200308T080000
END:DAYLIGHT
BEGIN:STANDARD
TZOFFSETFROM:-0500
TZOFFSETTO:-0600
TZNAME:CST
DTSTART:20201101T070000
END:STANDARD
BEGIN:DAYLIGHT
TZOFFSETFROM:-0600
TZOFFSETTO:-0500
TZNAME:CDT
DTSTART:20210314T080000
END:DAYLIGHT
BEGIN:STANDARD
TZOFFSETFROM:-0500
TZOFFSETTO:-0600
TZNAME:CST
DTSTART:20211107T070000
END:STANDARD
BEGIN:DAYLIGHT
TZOFFSETFROM:-0600
TZOFFSETTO:-0500
TZNAME:CDT
DTSTART:20220313T080000
END:DAYLIGHT
BEGIN:STANDARD
TZOFFSETFROM:-0500
TZOFFSETTO:-0600
TZNAME:CST
DTSTART:20221106T070000
END:STANDARD
END:VTIMEZONE
BEGIN:VEVENT
DTSTART;VALUE=DATE:20210811
DTEND;VALUE=DATE:20210812
DTSTAMP:20260425T055055
CREATED:20210616T023505Z
LAST-MODIFIED:20210616T023505Z
UID:7094-1628640000-1628726399@cinternat.com
SUMMARY:School Starts!
DESCRIPTION:
URL:https://cinternat.com/event/school-starts-2/
CATEGORIES:AST,TWCP
ATTACH;FMTTYPE=image/png:https://cinternat.com/wp-content/uploads/2020/05/AST_backtoschool.png
END:VEVENT
BEGIN:VEVENT
DTSTART;TZID=America/North_Dakota/Center:20210808T180000
DTEND;TZID=America/North_Dakota/Center:20210808T200000
DTSTAMP:20260425T055055
CREATED:20210728T012154Z
LAST-MODIFIED:20210728T012154Z
UID:7121-1628445600-1628452800@cinternat.com
SUMMARY:AST Pool Party
DESCRIPTION:What:   AST Pool Party\nWhen:  Sunday\, August 8 | 6:00 – 8:00 p.m.\nWhere:  Creekwood Park  (across from McCullough JHS)\nBring: A towel. Please also bring an individually\, pre-packaged snack (chips\, cookies\, candy – no chocolate) and/or drinks to share. \nP.A.S.T. will provide bottled water.
URL:https://cinternat.com/event/ast-pool-party-2/
LOCATION:Creekwood Pavilion and Pool\, 3383 S. Panther Creek Dr.\, The Woodlands\, TX\, 77381\, United States
CATEGORIES:AST,Class Activities,PAST Activities
ATTACH;FMTTYPE=image/jpeg:https://cinternat.com/wp-content/uploads/2021/07/AST_PoolParty_2021.jpg
END:VEVENT
BEGIN:VEVENT
DTSTART;TZID=America/North_Dakota/Center:20210808T180000
DTEND;TZID=America/North_Dakota/Center:20210808T200000
DTSTAMP:20260425T055055
CREATED:20210615T040534Z
LAST-MODIFIED:20210615T040534Z
UID:7104-1628445600-1628452800@cinternat.com
SUMMARY:AST Pool Party
DESCRIPTION:
URL:https://cinternat.com/event/ast-pool-party/
LOCATION:Creekwood Pavilion and Pool\, 3383 S. Panther Creek Dr.\, The Woodlands\, TX\, 77381\, United States
CATEGORIES:AST,PAST Activities
ATTACH;FMTTYPE=image/jpeg:https://cinternat.com/wp-content/uploads/2020/06/ASTPoolParty.jpg
END:VEVENT
BEGIN:VEVENT
DTSTART;TZID=America/North_Dakota/Center:20210730T090000
DTEND;TZID=America/North_Dakota/Center:20210730T140000
DTSTAMP:20260425T055055
CREATED:20210615T030219Z
LAST-MODIFIED:20210615T030219Z
UID:7102-1627635600-1627653600@cinternat.com
SUMMARY:Orientation: Freshman/Sophomore
DESCRIPTION:
URL:https://cinternat.com/event/orientation-freshman-sophomore-2021/
CATEGORIES:AST,TWCP
END:VEVENT
BEGIN:VEVENT
DTSTART;TZID=America/North_Dakota/Center:20210729T090000
DTEND;TZID=America/North_Dakota/Center:20210729T140000
DTSTAMP:20260425T055055
CREATED:20210616T022525Z
LAST-MODIFIED:20210616T022525Z
UID:7103-1627549200-1627567200@cinternat.com
SUMMARY:Orientation: Junior/Senior
DESCRIPTION:
URL:https://cinternat.com/event/orientation-junior-senior-2021/
CATEGORIES:AST,TWCP
ATTACH;FMTTYPE=image/jpeg:https://cinternat.com/wp-content/uploads/2021/06/TWCP_Back-to-School-Orientation.jpeg
END:VEVENT
BEGIN:VEVENT
DTSTART;TZID=America/North_Dakota/Center:20210516T160000
DTEND;TZID=America/North_Dakota/Center:20210516T183000
DTSTAMP:20260425T055055
CREATED:20210112T012102Z
LAST-MODIFIED:20210112T012102Z
UID:7080-1621180800-1621189800@cinternat.com
SUMMARY:AST Senior Gala 🦸🏻‍♂️ 👊🏽 🦸🏼‍♀️
DESCRIPTION:Details TBA 
URL:https://cinternat.com/event/ast-senior-gala-%f0%9f%a6%b8%f0%9f%8f%bb%e2%99%82%ef%b8%8f-%f0%9f%91%8a%f0%9f%8f%bd-%f0%9f%a6%b8%f0%9f%8f%bc%e2%99%80%ef%b8%8f/
LOCATION:The Woodlands Waterway Marriott Hotel\, 1601 Lake Robbins Dr\, The Woodlands\, TX\, 77380\, United States
CATEGORIES:AST
END:VEVENT
BEGIN:VEVENT
DTSTART;TZID=America/North_Dakota/Center:20210507T130000
DTEND;TZID=America/North_Dakota/Center:20210507T143000
DTSTAMP:20260425T055055
CREATED:20210507T032346Z
LAST-MODIFIED:20210507T032346Z
UID:7087-1620392400-1620397800@cinternat.com
SUMMARY:Underclassmen Award Ceremony 🏅 🏅
DESCRIPTION:Greetings Academy Parents: \nYou are invited to the annual AST Underclassmen Award Ceremony on Friday\, May 7\, 2021 from 1pm – 2:30pm in the auditorium. We are excited about the opportunity to celebrate your successes in person this year. \nAll Academy students are expected to attend the event and will be excused from class. \nStudents will be recognized for the following. Some of the recognitions involve the receipt of an award patch which can be worn on the academic letter jacket. \n\nScience Fair – 1st\, 2nd\, 3rd place at SEFH will receive a patch.\nDI – 1st\, 2nd\, 3rd place at State will receive a patch.\nEnvirothon\nQuiz Bowl\nScience Bowl\nRobotics\nExploration completions- students will receive a patch.\nJunior Awards\nASU elections\n\nWe are looking forward to seeing you on Friday. Please come to the auditorium following fifth period. If you have a test in your 6th or 7th period class\, please stay and take the test. \nCome to the auditorium wearing your mask. Sit in areas for your class and socially distance.
URL:https://cinternat.com/event/underclassmen-award-ceremony-%f0%9f%8f%85-%f0%9f%8f%85/
LOCATION:TWCP Auditorium
CATEGORIES:AST
END:VEVENT
BEGIN:VEVENT
DTSTART;TZID=America/North_Dakota/Center:20210311T063000
DTEND;TZID=America/North_Dakota/Center:20210311T191500
DTSTAMP:20260425T055055
CREATED:20210112T005504Z
LAST-MODIFIED:20210112T005504Z
UID:7075-1615444200-1615490100@cinternat.com
SUMMARY:AST Donut Day 🍩🍩
DESCRIPTION:
URL:https://cinternat.com/event/ast-donut-day-%f0%9f%8d%a9%f0%9f%8d%a9/
LOCATION:TWCP LGI 1
CATEGORIES:AST
END:VEVENT
BEGIN:VEVENT
DTSTART;TZID=America/North_Dakota/Center:20210222T180000
DTEND;TZID=America/North_Dakota/Center:20210222T203000
DTSTAMP:20260425T055055
CREATED:20210112T145018Z
LAST-MODIFIED:20210112T145018Z
UID:7081-1614016800-1614025800@cinternat.com
SUMMARY:AST Parent and Student Panel *Virtual*
DESCRIPTION:Details (Zoom info\, exact times\, etc.) TBA \n\nCurrent AST parents and students will share their experiences and insights\, answer questions\, etc. about the Academy for those considering enrollment.
URL:https://cinternat.com/event/ast-parent-and-student-panel-virtual/
LOCATION:Online
CATEGORIES:AST
END:VEVENT
BEGIN:VEVENT
DTSTART;TZID=America/North_Dakota/Center:20210220T080000
DTEND;TZID=America/North_Dakota/Center:20210220T140000
DTSTAMP:20260425T055055
CREATED:20210112T004829Z
LAST-MODIFIED:20210112T004829Z
UID:7072-1613808000-1613829600@cinternat.com
SUMMARY:Senior High EDC
DESCRIPTION:
URL:https://cinternat.com/event/senior-high-edc/
LOCATION:Long Star College – Montgomery
CATEGORIES:AST
END:VEVENT
BEGIN:VEVENT
DTSTART;TZID=America/North_Dakota/Center:20210209T180000
DTEND;TZID=America/North_Dakota/Center:20210209T190000
DTSTAMP:20260425T055055
CREATED:20210209T153557Z
LAST-MODIFIED:20210209T153557Z
UID:7083-1612893600-1612897200@cinternat.com
SUMMARY:SCI://TECH Science Fair Grand Award Ceremony
DESCRIPTION:Please join us for the SCI://TECH Science Fair Grand Award Ceremony. \nThe 1st place winners’ names will be called and the Grand Award winners’ names. \nThe link for the release of tonight’s award ceremony at 6:00 p.m. follows: \nhttps://youtu.be/mZC0EN2Tero \nThe link may also be found on the Education for Tomorrow Alliance’s YouTube channel.
URL:https://cinternat.com/event/sci-tech-science-fair-grand-award-ceremony/
LOCATION:Virtual
CATEGORIES:AST,Competitions
ATTACH;FMTTYPE=image/jpeg:https://cinternat.com/wp-content/uploads/2021/02/2021_efta.jpg
END:VEVENT
BEGIN:VEVENT
DTSTART;TZID=America/North_Dakota/Center:20210121T180000
DTEND;TZID=America/North_Dakota/Center:20210121T213000
DTSTAMP:20260425T055055
CREATED:20210112T002928Z
LAST-MODIFIED:20210112T002928Z
UID:7065-1611252000-1611264600@cinternat.com
SUMMARY:AST Interview Night *Virtual*
DESCRIPTION:
URL:https://cinternat.com/event/ast-interview-night-virtual-2/
LOCATION:Online
CATEGORIES:AST
END:VEVENT
BEGIN:VEVENT
DTSTART;TZID=America/North_Dakota/Center:20210119T180000
DTEND;TZID=America/North_Dakota/Center:20210119T213000
DTSTAMP:20260425T055055
CREATED:20210112T002759Z
LAST-MODIFIED:20210112T002759Z
UID:7064-1611079200-1611091800@cinternat.com
SUMMARY:AST Interview Night *Virtual*
DESCRIPTION:
URL:https://cinternat.com/event/ast-interview-night-virtual/
LOCATION:Online
CATEGORIES:AST
END:VEVENT
BEGIN:VEVENT
DTSTART;TZID=America/North_Dakota/Center:20210111T180000
DTEND;TZID=America/North_Dakota/Center:20210111T193000
DTSTAMP:20260425T055055
CREATED:20200602T234834Z
LAST-MODIFIED:20200602T234834Z
UID:7055-1610388000-1610393400@cinternat.com
SUMMARY:AST Internship Presentation Night (Postponed)
DESCRIPTION:Note: Internship Presentation Night has been postponed in hopes of finding a date where it can be done in person. (TBD) \nFifty-eight students have completed internships and will present at the Internship Presentation Night.  \nUnderclassmen may earn Exploration Credit by attending this event and writing a report per guidelines.
URL:https://cinternat.com/event/ast-internship-presentation-night/
CATEGORIES:AST
END:VEVENT
BEGIN:VEVENT
DTSTART;TZID=America/North_Dakota/Center:20210108T090000
DTEND;TZID=America/North_Dakota/Center:20210108T103000
DTSTAMP:20260425T055055
CREATED:20210112T151815Z
LAST-MODIFIED:20210112T151815Z
UID:7082-1610096400-1610101800@cinternat.com
SUMMARY:Coffee with the Headmaster ☕️ *Virtual*
DESCRIPTION:Join Zoom Meeting \nhttps://conroeisd.zoom.us/j/87027941198?pwd=R3NpeEk0NVpJVzc3c1ZsL2RGQnZsZz09 \nMeeting ID: 870 2794 1198\nPasscode: 503932
URL:https://cinternat.com/event/coffee-with-the-headmaster-%e2%98%95%ef%b8%8f-virtual/
LOCATION:Online
CATEGORIES:AST,PAST Activities
END:VEVENT
BEGIN:VEVENT
DTSTART;TZID=America/North_Dakota/Center:20210108T063000
DTEND;TZID=America/North_Dakota/Center:20210108T191500
DTSTAMP:20260425T055055
CREATED:20210112T003132Z
LAST-MODIFIED:20210112T003132Z
UID:7067-1610087400-1610133300@cinternat.com
SUMMARY:AST Donut Day
DESCRIPTION:
URL:https://cinternat.com/event/ast-donut-day-5/
LOCATION:TWCP LGI 1
CATEGORIES:AST
END:VEVENT
BEGIN:VEVENT
DTSTART;TZID=America/North_Dakota/Center:20201201T180000
DTEND;TZID=America/North_Dakota/Center:20201201T190000
DTSTAMP:20260425T055055
CREATED:20200602T234634Z
LAST-MODIFIED:20200602T234634Z
UID:7054-1606845600-1606849200@cinternat.com
SUMMARY:Distinguished Lecture Series *Virtual*
DESCRIPTION:Human Performance \nSpeaker: Bridget Todd\, Performance Excellence Leader\, HSE\, Baker Hughes \nZOOM Info: TBA
URL:https://cinternat.com/event/distinguished-lecture-series-27/
LOCATION:Virtual
CATEGORIES:AST,Lectures
END:VEVENT
BEGIN:VEVENT
DTSTART;TZID=America/North_Dakota/Center:20201120T063000
DTEND;TZID=America/North_Dakota/Center:20201120T071500
DTSTAMP:20260425T055055
CREATED:20200602T234030Z
LAST-MODIFIED:20200602T234030Z
UID:7052-1605853800-1605856500@cinternat.com
SUMMARY:AST Donut Day
DESCRIPTION:
URL:https://cinternat.com/event/ast-donut-day-4/
LOCATION:TWCP LGI 1
CATEGORIES:AST
END:VEVENT
BEGIN:VEVENT
DTSTART;TZID=America/North_Dakota/Center:20201117T180000
DTEND;TZID=America/North_Dakota/Center:20201117T190000
DTSTAMP:20260425T055055
CREATED:20200602T232609Z
LAST-MODIFIED:20200602T232609Z
UID:7051-1605636000-1605639600@cinternat.com
SUMMARY:Distinguished Lecture Series *Virtual*
DESCRIPTION:Success on the Frontlines: A Team Approach \nSpeaker: Anita Bangale\, M.D. Emergency Medicine \nZOOM Info: TBA
URL:https://cinternat.com/event/distinguished-lecture-series-26/
LOCATION:Virtual
CATEGORIES:AST,Lectures
END:VEVENT
BEGIN:VEVENT
DTSTART;TZID=America/North_Dakota/Center:20201110T180000
DTEND;TZID=America/North_Dakota/Center:20201110T190000
DTSTAMP:20260425T055055
CREATED:20200602T224458Z
LAST-MODIFIED:20200602T224458Z
UID:7045-1605031200-1605034800@cinternat.com
SUMMARY:Distinguished Lecture Series * Virtual*
DESCRIPTION: How Precision Medicine Based on Genetics Make-Up of Tumors Improves Care of Cancer Patients \n Speaker: George Miles\, M.D.\, Ph.D.  \nZOOM info: TBA
URL:https://cinternat.com/event/distinguished-lecture-series-23/
LOCATION:Virtual
CATEGORIES:AST,Lectures
END:VEVENT
BEGIN:VEVENT
DTSTART;TZID=America/North_Dakota/Center:20201024T070000
DTEND;TZID=America/North_Dakota/Center:20201024T130000
DTSTAMP:20260425T055055
CREATED:20200602T225717Z
LAST-MODIFIED:20200602T225717Z
UID:7048-1603522800-1603544400@cinternat.com
SUMMARY:AST Testing
DESCRIPTION:
URL:https://cinternat.com/event/ast-testing-6/
LOCATION:Commons
CATEGORIES:AST
END:VEVENT
BEGIN:VEVENT
DTSTART;TZID=America/North_Dakota/Center:20201017T070000
DTEND;TZID=America/North_Dakota/Center:20201017T130000
DTSTAMP:20260425T055055
CREATED:20200602T224753Z
LAST-MODIFIED:20200602T224753Z
UID:7046-1602918000-1602939600@cinternat.com
SUMMARY:AST Testing
DESCRIPTION:
URL:https://cinternat.com/event/ast-testing-5/
LOCATION:Commons
CATEGORIES:AST
END:VEVENT
BEGIN:VEVENT
DTSTART;TZID=America/North_Dakota/Center:20201006T180000
DTEND;TZID=America/North_Dakota/Center:20201006T190000
DTSTAMP:20260425T055055
CREATED:20200602T232054Z
LAST-MODIFIED:20200602T232054Z
UID:7050-1602007200-1602010800@cinternat.com
SUMMARY:Distinguished Lecture Series *Virtual*
DESCRIPTION:Pressure Pumping and Welbore Intervention Product Lines \nGuest: Kim Chandler\, Senior Intellectual Property Counsel\, Baker Hughes \nZOOM info: TBA
URL:https://cinternat.com/event/distinguished-lecture-series-25/
LOCATION:Virtual
CATEGORIES:AST,Lectures
END:VEVENT
BEGIN:VEVENT
DTSTART;TZID=America/North_Dakota/Center:20201001T180000
DTEND;TZID=America/North_Dakota/Center:20201001T200000
DTSTAMP:20260425T055055
CREATED:20200530T000515Z
LAST-MODIFIED:20200530T000515Z
UID:7043-1601575200-1601582400@cinternat.com
SUMMARY:AST Information Night *Virtual*
DESCRIPTION:Register for Information Night in order to receive Zoom invitation: \nhttps://www.surveymonkey.com/r/727TM69
URL:https://cinternat.com/event/ast-information-night-4/
LOCATION:Virtual
CATEGORIES:AST
END:VEVENT
BEGIN:VEVENT
DTSTART;TZID=America/North_Dakota/Center:20200928T180000
DTEND;TZID=America/North_Dakota/Center:20200928T200000
DTSTAMP:20260425T055055
CREATED:20200530T000436Z
LAST-MODIFIED:20200530T000436Z
UID:7042-1601316000-1601323200@cinternat.com
SUMMARY:AST Information Night *Virtual*
DESCRIPTION:Register for Information Night in order to receive Zoom invitation: \nhttps://www.surveymonkey.com/r/727TM69 \n 
URL:https://cinternat.com/event/ast-information-night-3/
LOCATION:Virtual
CATEGORIES:AST
END:VEVENT
BEGIN:VEVENT
DTSTART;TZID=America/North_Dakota/Center:20200917T170000
DTEND;TZID=America/North_Dakota/Center:20200917T203000
DTSTAMP:20260425T055055
CREATED:20200530T000314Z
LAST-MODIFIED:20200530T000314Z
UID:7041-1600362000-1600374600@cinternat.com
SUMMARY:AST Science Fair Information Night *Virtual*
DESCRIPTION:<details TBA> \n\nSRD students are required to “attend”\nStudents in grades 10-12 are strongly encouraged to “attend.” \n\nView award winning science fair projects.  \nLearn about the opportunities that science fair gives to students.  \nTalk to experts about science fair project ideas.
URL:https://cinternat.com/event/ast-science-fair-information-night-3/
LOCATION:Virtual
CATEGORIES:AST
END:VEVENT
BEGIN:VEVENT
DTSTART;TZID=America/North_Dakota/Center:20200912T080000
DTEND;TZID=America/North_Dakota/Center:20200912T100000
DTSTAMP:20260425T055055
CREATED:20200529T235004Z
LAST-MODIFIED:20200529T235004Z
UID:7039-1599897600-1599904800@cinternat.com
SUMMARY:AST Picnic
DESCRIPTION:Please enter from Honor Roll Drive \n\nTwo options to pick up your AST merchandise\, AST directory\, AST planners\, students’ explorations journals\, membership incentives and last but not least\, get a taste of a true AST Donut Day. \nOption 1: Park and Pick up\nPark in one of the Visitor Parking Lots and visit our P.A.S.T. volunteers at the three pick-up tents in front of the school.\nWe will adhere to the social distancing rules and all our volunteers will wear face coverings. We ask that you do too. \nOption 2:  Curbside pick up\nPlease park and text to 936.718.1940 with your last name\, what class is your student in and what car you are in and let us know what you are picking up.  A friendly P.A.S.T. volunteer will deliver your items directly to your car. \n\nFor those who choose the first option\, we will have the following stations set up: \nStation/Tent 1: AST Merchandise \n\nPlease note that this is for pick up of pre- ordered merchandise only. We won’t be selling any merchandise. If you would like to order\, we will be opening our online store later on this month.\n\nStation/Tent 2: AST Directory/Membership incentives \n\nPick up Directories\, membership incentives\, AST planners\, students’ explorations journals\nStation/Tent 3: P.A.S.T. Hospitality\nPick up your fresh donut holes and a drink.\n\n  \nDue to the current restrictions we will not be taking any membership payments. If you have not yet joined  we ask that you please join P.A.S.T. \nWe encourage you to view our video messages we have prepared for you in lieu of an in person presentation.\nWatch 2020-2021 Welcome Reception.
URL:https://cinternat.com/event/ast-picnic-3/
LOCATION:Commons
CATEGORIES:AST,PAST Activities
ATTACH;FMTTYPE=image/png:https://cinternat.com/wp-content/uploads/2020/05/TWCP_building.png
END:VEVENT
BEGIN:VEVENT
DTSTART;TZID=America/North_Dakota/Center:20200904T090000
DTEND;TZID=America/North_Dakota/Center:20200904T103000
DTSTAMP:20260425T055055
CREATED:20200529T234028Z
LAST-MODIFIED:20200529T234028Z
UID:7037-1599210000-1599215400@cinternat.com
SUMMARY:Coffee with the Headmaster ☕️ *Virtual*
DESCRIPTION:Dr. Caffery created a Module in the Academy General Canvas course titled Coffee with the Headmaster. \n\nDownload Dr. Caffery’s presentation HERE\n\n\nDr. Caffery will open a Zoom meeting for Questions and Answers on Friday\, Sept. 4 at 9:00 a.m. 
URL:https://cinternat.com/event/coffee-with-the-headmaster-%e2%98%95%ef%b8%8f/
LOCATION:Virtual
CATEGORIES:AST,PAST Activities
ATTACH;FMTTYPE=image/png:https://cinternat.com/wp-content/uploads/2020/05/AST_20200828_CofeeHeadmaster.png
END:VEVENT
BEGIN:VEVENT
DTSTART;TZID=America/North_Dakota/Center:20200828T063000
DTEND;TZID=America/North_Dakota/Center:20200828T071500
DTSTAMP:20260425T055055
CREATED:20200529T233015Z
LAST-MODIFIED:20200529T233015Z
UID:7036-1598596200-1598598900@cinternat.com
SUMMARY:Canceled: AST Donut Day
DESCRIPTION:
URL:https://cinternat.com/event/ast-donut-day-%f0%9f%8d%a9-%f0%9f%8d%a9-%f0%9f%8d%a9/
CATEGORIES:AST
END:VEVENT
BEGIN:VEVENT
DTSTART;TZID=America/North_Dakota/Center:20200820T180000
DTEND;TZID=America/North_Dakota/Center:20200820T200000
DTSTAMP:20260425T055055
CREATED:20200818T044008Z
LAST-MODIFIED:20200818T044008Z
UID:7060-1597946400-1597953600@cinternat.com
SUMMARY:CPHS Open House *Virtual*
DESCRIPTION:Open House will be virtual this year. \nTeachers will post a video or presentation on their Canvas pages for families to view. \nCISD Canvas
URL:https://cinternat.com/event/cphs-open-house/
LOCATION:Online
CATEGORIES:AST,TWCP
ATTACH;FMTTYPE=image/png:https://cinternat.com/wp-content/uploads/2020/08/2020_OpenHouse.png
END:VEVENT
END:VCALENDAR